BEGIN:VCALENDAR
VERSION:2.0
PRODID:-//ChamberMaster//Event Calendar 2.0//EN
METHOD:PUBLISH
X-PUBLISHED-TTL:P3D
REFRESH-INTERVAL:P3D
CALSCALE:GREGORIAN
BEGIN:VEVENT
DTSTART:20181115T150000Z
DTEND:20181115T153000Z
X-MICROSOFT-CDO-ALLDAYEVENT:FALSE
SUMMARY:Ribbon Cutting - McAlister's Deli
DESCRIPTION:Please join us as we celebrate McAlister's official ribbon cutting ceremony!
X-ALT-DESC;FMTTYPE=text/html:Please join us as we celebrate McAlister&#39\;s official ribbon cutting ceremony!
LOCATION:McAlister's Deli 1321 Euclid Ave.\, Suite 1. Bristol\, VA
UID:e.2564.791744
SEQUENCE:3
DTSTAMP:20260425T013712Z
URL:https://business.bristolchamber.com/events/details/ribbon-cutting-mcalister-s-deli-791744
END:VEVENT

END:VCALENDAR
