BEGIN:VCALENDAR
VERSION:2.0
PRODID:-//ChamberMaster//Event Calendar 2.0//EN
METHOD:PUBLISH
X-PUBLISHED-TTL:P3D
REFRESH-INTERVAL:P3D
CALSCALE:GREGORIAN
BEGIN:VEVENT
DTSTART:20191001T193000Z
DTEND:20191001T203000Z
X-MICROSOFT-CDO-ALLDAYEVENT:FALSE
SUMMARY:Ribbon Cutting/Grand Opening Celebration - PetSafe® Sugar Hollow Dog Park
DESCRIPTION:Please join us for the official ribbon cutting ceremony for Bristol Virginia's new PetSafe  Sugar Hollow Dog Park.  Your canine friends are welcome to join in the celebration and enjoy the new park!
X-ALT-DESC;FMTTYPE=text/html:Please join us for the official ribbon cutting ceremony for Bristol Virginia&#39\;s new PetSafe&reg\; Sugar Hollow Dog Park.&nbsp\; Your canine friends are welcome to join in the celebration and enjoy the new park!
LOCATION:Sugar Hollow Park 21361 Sugar Hollow Drive Bristol\, VA **(For convenient access to the celebration\, use Resting Tree Drive - parking will be available on the right in the grass)
UID:e.2564.792073
SEQUENCE:3
DTSTAMP:20260424T072944Z
URL:https://business.bristolchamber.com/events/details/ribbon-cutting-grand-opening-celebration-petsafe-sugar-hollow-dog-park-792073
END:VEVENT

END:VCALENDAR
