BEGIN:VCALENDAR
VERSION:2.0
PRODID:-//ChamberMaster//Event Calendar 2.0//EN
METHOD:PUBLISH
X-PUBLISHED-TTL:P3D
REFRESH-INTERVAL:P3D
CALSCALE:GREGORIAN
BEGIN:VEVENT
DTSTART:20181024T210000Z
DTEND:20181024T230000Z
X-MICROSOFT-CDO-ALLDAYEVENT:FALSE
SUMMARY:Ribbon Cutting/Grand Opening Celebration - Guthrie Dentistry
DESCRIPTION:You are invited to join us for a Ribbon Cutting/Grand Opening event as we celebrate Guthrie Dentistry's beautiful new facility.  Join us for tours\, networking\, door prizes\, and to be first in the know!
X-ALT-DESC;FMTTYPE=text/html:You are invited to join us for a Ribbon Cutting/Grand Opening event as we celebrate Guthrie Dentistry&#39\;s beautiful new facility.&nbsp\; Join us for tours\, networking\, door prizes\, and to be first in the know!
LOCATION:744 Bluff City Highway Bristol\, TN
UID:e.2564.791740
SEQUENCE:3
DTSTAMP:20260425T013658Z
URL:https://business.bristolchamber.com/events/details/ribbon-cutting-grand-opening-celebration-guthrie-dentistry-791740
END:VEVENT

END:VCALENDAR
