BEGIN:VCALENDAR
VERSION:2.0
PRODID:-//ChamberMaster//Event Calendar 2.0//EN
METHOD:PUBLISH
X-PUBLISHED-TTL:P3D
REFRESH-INTERVAL:P3D
CALSCALE:GREGORIAN
BEGIN:VEVENT
DTSTART:20181116T140000Z
DTEND:20181116T143000Z
X-MICROSOFT-CDO-ALLDAYEVENT:FALSE
SUMMARY:Ribbon Cutting - Goodwill Industries at Bristol Commons
DESCRIPTION:Please join us as we celebrate the ribbon cutting and grand opening of Goodwill's newest store location!
X-ALT-DESC;FMTTYPE=text/html:Please join us as we celebrate the ribbon cutting and grand opening of Goodwill&#39\;s newest store location!
LOCATION:Goodwill at Bristol Commons (Exit 7) 3170 Linden Drive Bristol\, Va
UID:e.2564.791762
SEQUENCE:3
DTSTAMP:20260425T013039Z
URL:https://business.bristolchamber.com/events/details/ribbon-cutting-goodwill-industries-at-bristol-commons-791762
END:VEVENT

END:VCALENDAR
