BEGIN:VCALENDAR
VERSION:2.0
PRODID:-//ChamberMaster//Event Calendar 2.0//EN
METHOD:PUBLISH
X-PUBLISHED-TTL:P3D
REFRESH-INTERVAL:P3D
CALSCALE:GREGORIAN
BEGIN:VEVENT
DTSTART:20210913T130000Z
DTEND:20210913T133000Z
X-MICROSOFT-CDO-ALLDAYEVENT:FALSE
SUMMARY:Ribbon Cutting Celebration - new Arby's on West State!!!!
DESCRIPTION:Join us for the ribbon cutting celebration of the brand new Arby's location!\n\n**Attendees will receive a complimentary lunch card
X-ALT-DESC;FMTTYPE=text/html:Join us for the ribbon cutting celebration of the brand new Arby&#39\;s location!<br />\n**Attendees will receive a complimentary lunch card
LOCATION:2615 W. State Street Bristol\, TN 37620
UID:e.2564.794941
SEQUENCE:3
DTSTAMP:20260422T223251Z
URL:https://business.bristolchamber.com/events/details/ribbon-cutting-celebration-new-arby-s-on-west-state-794941
END:VEVENT

END:VCALENDAR
