BEGIN:VCALENDAR
VERSION:2.0
PRODID:-//ChamberMaster//Event Calendar 2.0//EN
METHOD:PUBLISH
X-PUBLISHED-TTL:P3D
REFRESH-INTERVAL:P3D
CALSCALE:GREGORIAN
BEGIN:VEVENT
DTSTART:20190212T220000Z
DTEND:20190213T000000Z
X-MICROSOFT-CDO-ALLDAYEVENT:FALSE
SUMMARY:Ribbon Cutting/Business After Hours - Edwards Jones\, Jessee White
DESCRIPTION:Join us for a ribbon cutting/business after hours event celebrating the new location of Edwards Jones - Jessee White.
X-ALT-DESC;FMTTYPE=text/html:Join us for a ribbon cutting/business after hours event celebrating the new location of Edwards Jones - Jessee White.
LOCATION:636 Shelby Street\, Ste 202 Bristol\, TN 37620
UID:e.2564.791875
SEQUENCE:3
DTSTAMP:20260424T203844Z
URL:https://business.bristolchamber.com/events/details/ribbon-cutting-business-after-hours-edwards-jones-jessee-white-791875
END:VEVENT

END:VCALENDAR
