BEGIN:VCALENDAR
VERSION:2.0
PRODID:-//ChamberMaster//Event Calendar 2.0//EN
METHOD:PUBLISH
X-PUBLISHED-TTL:P3D
REFRESH-INTERVAL:P3D
CALSCALE:GREGORIAN
BEGIN:VEVENT
DTSTART:20181005T150000Z
DTEND:20181005T160000Z
X-MICROSOFT-CDO-ALLDAYEVENT:FALSE
SUMMARY:Ribbon Cutting - Burgerim
DESCRIPTION:Please join us for a Ribbon Cutting celebration for Burgerim.
X-ALT-DESC;FMTTYPE=text/html:Please join us for a Ribbon Cutting celebration for Burgerim.
LOCATION:Burgerim 412 Pinnacle Parkway Suite 209 Bristol\, TN 37620
UID:e.2564.791714
SEQUENCE:3
DTSTAMP:20260425T013545Z
URL:https://business.bristolchamber.com/events/details/ribbon-cutting-burgerim-791714
END:VEVENT

END:VCALENDAR
