BEGIN:VCALENDAR
VERSION:2.0
PRODID:-//ChamberMaster//Event Calendar 2.0//EN
METHOD:PUBLISH
X-PUBLISHED-TTL:P3D
REFRESH-INTERVAL:P3D
CALSCALE:GREGORIAN
BEGIN:VEVENT
DTSTART:20210924T140000Z
DTEND:20210924T143000Z
X-MICROSOFT-CDO-ALLDAYEVENT:FALSE
SUMMARY:Ribbon Cutting - Bristol's Promise\, "Parenting Sweet" Suite
DESCRIPTION:Join us for a ribbon cutting to celebrate Bristol's Promise - "Parenting Sweet" (Suite)
X-ALT-DESC;FMTTYPE=text/html:Join us for a ribbon cutting to celebrate Bristol&#39\;s Promise - &quot\;Parenting Sweet&quot\; (Suite)&nbsp\;
LOCATION:100 Ash St. Bristol\, TN 37620 **event will take place outside under tent
UID:e.2564.794954
SEQUENCE:3
DTSTAMP:20260422T223702Z
URL:https://business.bristolchamber.com/events/details/ribbon-cutting-bristol-s-promise-parenting-sweet-suite-794954
END:VEVENT

END:VCALENDAR
