BEGIN:VCALENDAR
VERSION:2.0
PRODID:-//ChamberMaster//Event Calendar 2.0//EN
METHOD:PUBLISH
X-PUBLISHED-TTL:P3D
REFRESH-INTERVAL:P3D
CALSCALE:GREGORIAN
BEGIN:VEVENT
DTSTART:20191210T153000Z
DTEND:20191210T160000Z
X-MICROSOFT-CDO-ALLDAYEVENT:FALSE
SUMMARY:Ribbon Cutting - Bristol Bagel & Bakery
DESCRIPTION:Please join us to celebrate the ribbon cutting ceremony for Bristol Bagel & Bakery!
X-ALT-DESC;FMTTYPE=text/html:<strong><span style="font-size:16px\;">Please join us to celebrate the ribbon cutting ceremony for Bristol Bagel &amp\; Bakery!</span></strong>
LOCATION:634 State Street Bristol\, TN
UID:e.2564.794248
SEQUENCE:3
DTSTAMP:20260421T224238Z
URL:https://business.bristolchamber.com/events/details/ribbon-cutting-bristol-bagel-bakery-794248
END:VEVENT

END:VCALENDAR
