BEGIN:VCALENDAR
VERSION:2.0
PRODID:-//ChamberMaster//Event Calendar 2.0//EN
METHOD:PUBLISH
X-PUBLISHED-TTL:P3D
REFRESH-INTERVAL:P3D
CALSCALE:GREGORIAN
BEGIN:VEVENT
DTSTART:20210907T143000Z
DTEND:20210907T150000Z
X-MICROSOFT-CDO-ALLDAYEVENT:FALSE
SUMMARY:Ribbon Cutting - Best Practice Family Care
DESCRIPTION:Join us for a ribbon cutting celebration for Best Practice Family Care on Tuesday\, September 7 at 10:30 a.m.
X-ALT-DESC;FMTTYPE=text/html:Join us for a ribbon cutting celebration for Best Practice Family Care on Tuesday\, September 7 at 10:30 a.m.&nbsp\;&nbsp\;&nbsp\;&nbsp\;
LOCATION:2137 Volunteer Parkway\, Ste 5 Bristol\, TN 37620
UID:e.2564.794944
SEQUENCE:3
DTSTAMP:20260422T223353Z
URL:https://business.bristolchamber.com/events/details/ribbon-cutting-best-practice-family-care-794944
END:VEVENT

END:VCALENDAR
