BEGIN:VCALENDAR
VERSION:2.0
PRODID:-//ChamberMaster//Event Calendar 2.0//EN
METHOD:PUBLISH
X-PUBLISHED-TTL:P3D
REFRESH-INTERVAL:P3D
CALSCALE:GREGORIAN
BEGIN:VEVENT
DTSTART:20190111T210000Z
DTEND:20190111T213000Z
X-MICROSOFT-CDO-ALLDAYEVENT:FALSE
SUMMARY:Ribbon Cutting - Ashley HomeStore
DESCRIPTION:Join us for a ribbon cutting celebration for Ashley HomeStore!
X-ALT-DESC;FMTTYPE=text/html:Join us for a ribbon cutting celebration for Ashley HomeStore!
LOCATION:13115 Lee Highway Bristol\, VA 24202 (near Wal-Mart -exit 7)
UID:e.2564.791828
SEQUENCE:3
DTSTAMP:20260424T205249Z
URL:https://business.bristolchamber.com/events/details/ribbon-cutting-ashley-homestore-791828
END:VEVENT

END:VCALENDAR
