BEGIN:VCALENDAR
VERSION:2.0
PRODID:-//ChamberMaster//Event Calendar 2.0//EN
METHOD:PUBLISH
X-PUBLISHED-TTL:P3D
REFRESH-INTERVAL:P3D
CALSCALE:GREGORIAN
BEGIN:VEVENT
DTSTART;VALUE=DATE:20200113
DTEND;VALUE=DATE:20200118
TRANSP:TRANSPARENT
X-MICROSOFT-CDO-ALLDAYEVENT:TRUE
SUMMARY:Project Voice
DESCRIPTION:Subject: Project Voice\, January 13-17\, 2020 in Chattanooga\, TN Project Voice takes place on January 13 17\, 2020 at the Chattanooga Convention Center in Chattanooga\, Tennessee\, The Voice Technology Mega-Event and the #1 Event for Voice Tech and AI in America. Project Voice will gather together 3\,000+ Executives\, Developers\, Marketers\, Designers\, Strategists\, Engineers\, VCs\, Media\, Analysts from across 15 countries sharing best practices\, gathering intelligence on the various voice ecosystems\, and networking across a diversity of sectors and industries. Presented by Microsoft\, Amazon\, Google and Samsung and produced by podcast network VoiceFirst.FM\, Project Voice will be a uniquely valuable\, must-attend event.
X-ALT-DESC;FMTTYPE=text/html:Subject: Project Voice\, January 13-17\, 2020 in Chattanooga\, TN Project Voice takes place on January 13&ndash\;17\, 2020 at the Chattanooga Convention Center in Chattanooga\, Tennessee\, The Voice Technology Mega-Event and the #1 Event for Voice Tech and AI in America. Project Voice will gather together 3\,000+ Executives\, Developers\, Marketers\, Designers\, Strategists\, Engineers\, VCs\, Media\, Analysts from across 15 countries sharing best practices\, gathering intelligence on the various voice ecosystems\, and networking across a diversity of sectors and industries. Presented by Microsoft\, Amazon\, Google and Samsung and produced by podcast network VoiceFirst.FM\, Project Voice will be a uniquely valuable\, must-attend event.
LOCATION:Chattanooga Convention Center Chattanooga\, TN
UID:e.2564.794152
SEQUENCE:3
DTSTAMP:20260420T163123Z
URL:https://business.bristolchamber.com/events/details/project-voice-794152
END:VEVENT

END:VCALENDAR
