BEGIN:VCALENDAR
VERSION:2.0
PRODID:-//ChamberMaster//Event Calendar 2.0//EN
METHOD:PUBLISH
X-PUBLISHED-TTL:P3D
REFRESH-INTERVAL:P3D
CALSCALE:GREGORIAN
BEGIN:VEVENT
DTSTART:20230422T140000Z
DTEND:20230422T180000Z
X-MICROSOFT-CDO-ALLDAYEVENT:FALSE
SUMMARY:Prescription Drug Take-Back event hosted by BTPD
DESCRIPTION:FOR IMMEDIATE RELEASE\n			 \n			CONTACT:\n			Greg Brown\n		\n		\n			DATE:\n			02/14/2023\n			 \n			TITLE:\n			Lieutenant\n		\n		\n			 \n			 \n			PHONE NUMBER:\n			(423)989-3153\n		\n		\n			 \n			 \n			EMAIL ADDRESS:\n			gbrown@bristoltn.org\n		\n		\n			 \n			 \n			 \n			 \n			 \n			 \n		\n	\n\n                                                         \n\n\n	\n		\n			BTPD to host Prescription Drug Take-Back event\n\n			 \n\n			The Bristol Tennessee Police Department will host a "Prescription Drug Take-Back" event on Saturday\, April 22\, 2023\, from 10 a.m. to 2 p.m. in the Municipal Parking Lot located at 801 Anderson Street\, Bristol\, Tenn. (Courthouse parking lot). People are asked to bring their old\, unwanted\, unused or expired medications (prescription\, over-the-counter and supplements) to this secure drop-off site. This is a no-questions-asked event\, and participants will not need to produce identification. All items will be properly disposed of by incineration by the Bristol Tennessee Police Department.\n\n			 \n\n			The Police Department is encouraging individuals to rid their households of unused medications that pose a safety hazard and can contribute to prescription drug abuse. Additionally\, proper disposal is much safer for the environment and the water supply as flushing or throwing away medication puts our waterways and aquatic life at risk. Liquids and syringes will not be accepted.  \n\n			 \n\n			The Drug Take-Back initiative is for the general public. Doctor's offices\, clinics\, or other medical offices should follow the guidelines set by the Drug Enforcement Administration. The guidelines for disposal can be found at http://www.deadiversion.usdoj.gov/index.html.\n\n			 \n\n			For further information\, please contact Lt. Greg Brown (423) 989-3153 or gbrown@bristoltn.org.
X-ALT-DESC;FMTTYPE=text/html:<table border="0" cellpadding="0" cellspacing="0" style="margin-left:.5in\;border-collapse:collapse\;border:none\;">\n	<tbody>\n		<tr>\n			<td colspan="3" style="width:286px\;padding:0in 5.4pt 0in 5.4pt\;vertical-align:top\;">FOR IMMEDIATE RELEASE</td>\n			<td style="width:69px\;padding:0in 5.4pt 0in 5.4pt\;vertical-align:top\;">&nbsp\;</td>\n			<td style="width:156px\;padding:0in 5.4pt 0in 5.4pt\;vertical-align:top\;">CONTACT:</td>\n			<td style="width:210px\;border:none\;border-bottom:solid windowtext 1.0pt\;padding:0in 5.4pt 0in 5.4pt\;vertical-align:top\;">Greg Brown</td>\n		</tr>\n		<tr>\n			<td style="width:64px\;padding:0in 5.4pt 0in 5.4pt\;vertical-align:top\;">DATE:</td>\n			<td style="width:117px\;border:none\;border-bottom:solid windowtext 1.0pt\;padding:0in 5.4pt 0in 5.4pt\;vertical-align:top\;">02/14/2023</td>\n			<td colspan="2" style="width:174px\;padding:0in 5.4pt 0in 5.4pt\;vertical-align:top\;">&nbsp\;</td>\n			<td style="width:156px\;padding:0in 5.4pt 0in 5.4pt\;vertical-align:top\;">TITLE:</td>\n			<td style="width:210px\;border:none\;border-bottom:solid windowtext 1.0pt\;padding:0in 5.4pt 0in 5.4pt\;vertical-align:top\;">Lieutenant</td>\n		</tr>\n		<tr>\n			<td style="width:64px\;padding:0in 5.4pt 0in 5.4pt\;vertical-align:top\;">&nbsp\;</td>\n			<td colspan="3" style="width:291px\;padding:0in 5.4pt 0in 5.4pt\;vertical-align:top\;">&nbsp\;</td>\n			<td style="width:156px\;padding:0in 5.4pt 0in 5.4pt\;vertical-align:top\;">PHONE NUMBER:</td>\n			<td style="width:210px\;border:none\;border-bottom:solid windowtext 1.0pt\;padding:0in 5.4pt 0in 5.4pt\;vertical-align:top\;">(423)989-3153</td>\n		</tr>\n		<tr>\n			<td colspan="3" style="width:286px\;padding:0in 5.4pt 0in 5.4pt\;vertical-align:top\;">&nbsp\;</td>\n			<td style="width:69px\;padding:0in 5.4pt 0in 5.4pt\;vertical-align:top\;">&nbsp\;</td>\n			<td style="width:156px\;padding:0in 5.4pt 0in 5.4pt\;vertical-align:top\;">EMAIL ADDRESS:</td>\n			<td style="width:210px\;border:none\;border-bottom:solid windowtext 1.0pt\;padding:0in 5.4pt 0in 5.4pt\;vertical-align:top\;">gbrown@bristoltn.org</td>\n		</tr>\n		<tr height="0">\n			<td style="border:none\;">&nbsp\;</td>\n			<td style="border:none\;">&nbsp\;</td>\n			<td style="border:none\;">&nbsp\;</td>\n			<td style="border:none\;">&nbsp\;</td>\n			<td style="border:none\;">&nbsp\;</td>\n			<td style="border:none\;">&nbsp\;</td>\n		</tr>\n	</tbody>\n</table>\n&nbsp\;&nbsp\;&nbsp\;&nbsp\;&nbsp\;&nbsp\;&nbsp\;&nbsp\;&nbsp\;&nbsp\;&nbsp\;&nbsp\;&nbsp\;&nbsp\;&nbsp\;&nbsp\;&nbsp\;&nbsp\;&nbsp\;&nbsp\;&nbsp\;&nbsp\;&nbsp\;&nbsp\;&nbsp\;&nbsp\;&nbsp\;&nbsp\;&nbsp\;&nbsp\;&nbsp\;&nbsp\;&nbsp\;&nbsp\;&nbsp\;&nbsp\;&nbsp\;&nbsp\;&nbsp\;&nbsp\;&nbsp\;&nbsp\;&nbsp\;&nbsp\;&nbsp\;&nbsp\;&nbsp\;&nbsp\;&nbsp\;&nbsp\;&nbsp\;&nbsp\;&nbsp\;&nbsp\;&nbsp\;&nbsp\;&nbsp\;\n\n<table border="0" cellpadding="0" cellspacing="0" style="margin-left:36.9pt\;border-collapse:collapse\;border:none\;">\n	<tbody>\n		<tr style="height:141px\;">\n			<td style="width:728px\;padding:0in 5.4pt 0in 5.4pt\;height:141px\;vertical-align:top\;">BTPD to host Prescription Drug Take-Back event<br />\n			&nbsp\;<br />\n			<span style="font-weight:normal\;">The Bristol Tennessee Police Department will host a &ldquo\;Prescription Drug Take-Back&rdquo\; event on Saturday\, April 22\, 2023\, from 10 a.m. to 2 p.m. in the Municipal Parking Lot located at 801 Anderson Street\, Bristol\, Tenn. (Courthouse parking lot). People are asked to bring their old\, unwanted\, unused or expired medications (prescription\, over-the-counter and supplements) to this secure drop-off site. This is a no-questions-asked event\, and participants will not need to produce identification. All items will be properly disposed of by incineration by the Bristol Tennessee Police Department.</span><br />\n			&nbsp\;<br />\n			<span style="font-weight:normal\;">The Police Department is encouraging individuals to rid their households of unused medications that pose a safety hazard and can contribute to prescription drug abuse. Additionally\, proper disposal is much safer for the environment and the water supply as flushing or throwing away medication puts our waterways and aquatic life at risk. Liquids and syringes will not be accepted.&nbsp\; </span><br />\n			&nbsp\;<br />\n			<span style="font-weight:normal\;">The Drug Take-Back initiative is for the general public. Doctor&rsquo\;s offices\, clinics\, or other medical offices should follow the guidelines set by the Drug Enforcement Administration. The guidelines for disposal can be found at </span><a href="http://www.deadiversion.usdoj.gov/index.html"><span style="font-weight:normal\;">http://www.deadiversion.usdoj.gov/index.html</span></a><span style="font-weight:normal\;">.</span><br />\n			&nbsp\;<br />\n			<span style="font-weight:normal\;">For further information\, please contact Lt. Greg Brown (423) 989-3153 or </span><a href="mailto:gbrown@bristoltn.org"><span style="font-weight:normal\;">gbrown@bristoltn.org</span></a><span style="font-weight:normal\;">.</span><br />\n			&nbsp\;<br />\n			&nbsp\;</td>\n		</tr>\n	</tbody>\n</table>\n
LOCATION:Municipal Parking Lot 801 Anderson Street Bristol\, TN 37620
UID:e.2564.795695
SEQUENCE:3
DTSTAMP:20260419T223623Z
URL:https://business.bristolchamber.com/events/details/prescription-drug-take-back-event-hosted-by-btpd-795695
END:VEVENT

END:VCALENDAR
