BEGIN:VCALENDAR
VERSION:2.0
PRODID:-//ChamberMaster//Event Calendar 2.0//EN
METHOD:PUBLISH
X-PUBLISHED-TTL:P3D
REFRESH-INTERVAL:P3D
CALSCALE:GREGORIAN
BEGIN:VEVENT
DTSTART:20200629T160000Z
DTEND:20200629T170000Z
X-MICROSOFT-CDO-ALLDAYEVENT:FALSE
SUMMARY:Positive Impact of Workforce Sustainability with Dave Barrett
DESCRIPTION:There is no cost to attend\, but pre-registration is required and space is limited. \n\n\n\nCascade Engineering embarked on an effort to implement a program with the express purpose of helping their workers. Since executing this program\, the company has recognized both tangible and intangible benefits such as:\n\n	reduced employee turnover\, \n	improved employee practices and \n	an increase in employee pride\n\nJoin Bristol's Promise\, United Way of Bristol TN/VA\, The Robinette Company and Bristol Chamber of Commerce as we hear from Cascade Engineering Director of Talent Management\, David Barrett\, about how a workforce sustainability program increased their bottom line and made them an "Employer of Choice" in Grand Rapids\, Michigan.\n\nTo register: https://bit.ly/BristolConnectWebinar
X-ALT-DESC;FMTTYPE=text/html:<span style="color:rgb(29\, 33\, 41)\; font-family:helvetica\,arial\,sans-serif\; font-size:14px"><em><strong>There is no cost to attend\, but pre-registration is required and space is limited.&nbsp\;</strong></em><br />\n<br />\nCascade Engineering embarked on an effort to implement a program with the express purpose of helping their workers. Since executing this program\, the company has recognized both tangible and intangible benefits such as:</span>\n<ul>\n	<li><span style="color:rgb(29\, 33\, 41)\; font-family:helvetica\,arial\,sans-serif\; font-size:14px">reduced employee turnover\, </span></li>\n	<li><span style="color:rgb(29\, 33\, 41)\; font-family:helvetica\,arial\,sans-serif\; font-size:14px">improved employee practices and </span></li>\n	<li><span style="color:rgb(29\, 33\, 41)\; font-family:helvetica\,arial\,sans-serif\; font-size:14px">an increase in employee pride</span></li>\n</ul>\n<span style="color:rgb(29\, 33\, 41)\; font-family:helvetica\,arial\,sans-serif\; font-size:14px">Join Bristol&rsquo\;s Promise\, United Way of Bristol TN/VA\, The Robinette Company and Bristol Chamber of Commerce as we hear from Cascade Engineering Director of Talent Management\, David Barrett\, about how a workforce sustainability program increased their bottom line and made them an &ldquo\;Employer of Choice&rdquo\; in Grand Rapids\, Michigan.<br />\n<strong>To register:&nbsp\;</strong></span><strong>https://bit.ly/BristolConnectWebinar</strong>
LOCATION:Online Zoom Webinar: https://us02web.zoom.us/meeting/register/tZYoduChqjsiHdSo5KOm3_vagtk89FGDJ20K
UID:e.2564.794427
SEQUENCE:3
DTSTAMP:20260423T202809Z
URL:https://business.bristolchamber.com/events/details/positive-impact-of-workforce-sustainability-with-dave-barrett-06-29-2020-794427
END:VEVENT

END:VCALENDAR
