BEGIN:VCALENDAR
VERSION:2.0
PRODID:-//ChamberMaster//Event Calendar 2.0//EN
METHOD:PUBLISH
X-PUBLISHED-TTL:P3D
REFRESH-INTERVAL:P3D
CALSCALE:GREGORIAN
BEGIN:VEVENT
DTSTART:20191130T190000Z
DTEND:20191201T030000Z
X-MICROSOFT-CDO-ALLDAYEVENT:FALSE
SUMMARY:Pop-Up Vinyl Record Sale
DESCRIPTION:The mobile record store returns on Saturday\, November 30th! We'll be back at Elderbrew with hundreds of new arrivals and a wide variety of great vinyl you won't want to miss. Swing by anytime between 2:00-10:00. Big thanks to @elderbrew for having us back!
X-ALT-DESC;FMTTYPE=text/html:<span style="font-family: &quot\;Crimson Text&quot\;\, Georgia\, serif\; font-size: 14px\; background-color: rgb(255\, 255\, 255)\;">The mobile record store returns on Saturday\, November 30th! We&rsquo\;ll be back at Elderbrew with hundreds of new arrivals and a wide variety of great vinyl you won&rsquo\;t want to miss. Swing by anytime between 2:00-10:00. Big thanks to @elderbrew for having us back!</span>
LOCATION:Elderbrew\, Downtown Bristol
UID:e.2564.794217
SEQUENCE:3
DTSTAMP:20260420T235305Z
URL:https://business.bristolchamber.com/events/details/pop-up-vinyl-record-sale-794217
END:VEVENT

END:VCALENDAR
