BEGIN:VCALENDAR
VERSION:2.0
PRODID:-//ChamberMaster//Event Calendar 2.0//EN
METHOD:PUBLISH
X-PUBLISHED-TTL:P3D
REFRESH-INTERVAL:P3D
CALSCALE:GREGORIAN
BEGIN:VEVENT
DTSTART:20181005T210000Z
DTEND:20181007T210000Z
X-MICROSOFT-CDO-ALLDAYEVENT:FALSE
SUMMARY:Pink Ribbon Tennis Tournament
DESCRIPTION:Enjoy a fun weekend of both singels and doubles tournament play while helping raise funds for the women and men fighting breast cancer. Event is hosted by Kingsport Parks and Recreation. Ages 14 and up are welcome Registration is now open and will close September 28.
X-ALT-DESC;FMTTYPE=text/html:Enjoy a fun weekend of both singels and doubles tournament play while helping raise funds for the women and men fighting breast cancer. Event is hosted by Kingsport Parks and Recreation. Ages 14 and up are welcome Registration is now open and will close September 28.
LOCATION:Borden Park 901 Lamont Street Kingsport
UID:e.2564.791680
SEQUENCE:3
DTSTAMP:20260425T030856Z
URL:https://business.bristolchamber.com/events/details/pink-ribbon-tennis-tournament-791680
END:VEVENT

END:VCALENDAR
