BEGIN:VCALENDAR
VERSION:2.0
PRODID:-//ChamberMaster//Event Calendar 2.0//EN
METHOD:PUBLISH
X-PUBLISHED-TTL:P3D
REFRESH-INTERVAL:P3D
CALSCALE:GREGORIAN
BEGIN:VEVENT
DTSTART:20210513T220000Z
DTEND:20210716T010000Z
X-MICROSOFT-CDO-ALLDAYEVENT:FALSE
SUMMARY:Phlebotomy program
DESCRIPTION:The Phlebotomy program includes the national certification exam. Held Thursday evenings.
X-ALT-DESC;FMTTYPE=text/html:The Phlebotomy program includes the national certification exam. Held Thursday evenings.
LOCATION:Northeast State\; Regional Center for Health Professions
UID:e.2564.794664
SEQUENCE:3
DTSTAMP:20260423T031232Z
URL:https://business.bristolchamber.com/events/details/phlebotomy-program-794664
END:VEVENT

END:VCALENDAR
