BEGIN:VCALENDAR
VERSION:2.0
PRODID:-//ChamberMaster//Event Calendar 2.0//EN
METHOD:PUBLISH
X-PUBLISHED-TTL:P3D
REFRESH-INTERVAL:P3D
CALSCALE:GREGORIAN
BEGIN:VEVENT
DTSTART:20190608T120000Z
DTEND:20190608T220000Z
X-MICROSOFT-CDO-ALLDAYEVENT:FALSE
SUMMARY:Over the Edge Tri-Cities TN/VA
DESCRIPTION:Are you a thrill seeker? Adrenaline junkie? Someone who needs to overcome your fear of HEIGHTS? Then JOIN US for Over the Edge and rappel 10 stories down the iconic tower at the Last Great Colliseum\, Bristol Motor Speedway. This one of a kind event will give you the chance to safely participate in a once in a lifetime event and Go Over the Edge for children and families in our community. This fundraising opportunity will help provide much needed funds for Speedway Children's Charities and YWCA NETN And SWVA to support area families. If you are interested in going over the edge click the link to get started. Space is very limited!! Register today at: www.otecwe.com/bristol
X-ALT-DESC;FMTTYPE=text/html:Are you a thrill seeker? Adrenaline junkie? Someone who needs to overcome your fear of HEIGHTS? Then JOIN US for Over the Edge and rappel 10 stories down the iconic tower at the Last Great Colliseum\, Bristol Motor Speedway. This one of a kind event will give you the chance to safely participate in a once in a lifetime event and Go Over the Edge for children and families in our community. This fundraising opportunity will help provide much needed funds for Speedway Children&#39\;s Charities and YWCA NETN And SWVA to support area families. If you are interested in going over the edge click the link to get started. Space is very limited!! Register today at: www.otecwe.com/bristol
LOCATION:The Bristol Motor Speedway
UID:e.2564.791944
SEQUENCE:3
DTSTAMP:20260419T172117Z
URL:https://business.bristolchamber.com/events/details/over-the-edge-tri-cities-tn-va-791944
END:VEVENT

END:VCALENDAR
