BEGIN:VCALENDAR
VERSION:2.0
PRODID:-//ChamberMaster//Event Calendar 2.0//EN
METHOD:PUBLISH
X-PUBLISHED-TTL:P3D
REFRESH-INTERVAL:P3D
CALSCALE:GREGORIAN
BEGIN:VEVENT
DTSTART:20200130T221500Z
DTEND:20200130T233000Z
X-MICROSOFT-CDO-ALLDAYEVENT:FALSE
SUMMARY:Organizing Tips for the New Year
DESCRIPTION:BHHS Jones Property Group has partnered with Jonya Kennedy\, owner of Sorted Wellness\, to host a free seminar on organizational tips for the new year! www.bhhsjones.com www.sortedwellness.com
X-ALT-DESC;FMTTYPE=text/html:BHHS Jones Property Group has partnered with Jonya Kennedy\, owner of Sorted Wellness\, to host a free seminar on organizational tips for the new year! www.bhhsjones.com www.sortedwellness.com
LOCATION:BHHS Jones Property Group 836 State Street\, Bristol\, TN 37620
UID:e.2564.794276
SEQUENCE:3
DTSTAMP:20260421T015356Z
URL:https://business.bristolchamber.com/events/details/organizing-tips-for-the-new-year-794276
END:VEVENT

END:VCALENDAR
