BEGIN:VCALENDAR
VERSION:2.0
PRODID:-//ChamberMaster//Event Calendar 2.0//EN
METHOD:PUBLISH
X-PUBLISHED-TTL:P3D
REFRESH-INTERVAL:P3D
CALSCALE:GREGORIAN
BEGIN:VEVENT
DTSTART:20220117T230000Z
DTEND:20220118T013000Z
X-MICROSOFT-CDO-ALLDAYEVENT:FALSE
SUMMARY:NEW LIFE RESTORATION-OVERCOMING LIFE CONTROLLING PROBLEMS
DESCRIPTION:This is a biblically-based program which provides a safe place for individuals and/or their loved ones to discuss and overcome life-controlling problems related to addictions\, emotions\, behaviors and relationships.
X-ALT-DESC;FMTTYPE=text/html:This is a biblically-based program which provides a safe place for individuals and/or their loved ones to discuss and overcome life-controlling problems related to addictions\, emotions\, behaviors and relationships.
LOCATION:Covenant Fellowship Church
UID:e.2564.795083
SEQUENCE:3
DTSTAMP:20260422T162452Z
URL:https://business.bristolchamber.com/events/details/new-life-restoration-overcoming-life-controlling-problems-795083
END:VEVENT

END:VCALENDAR
