BEGIN:VCALENDAR
VERSION:2.0
PRODID:-//ChamberMaster//Event Calendar 2.0//EN
METHOD:PUBLISH
X-PUBLISHED-TTL:P3D
REFRESH-INTERVAL:P3D
CALSCALE:GREGORIAN
BEGIN:VEVENT
DTSTART:20230116T130000Z
DTEND:20230116T210000Z
X-MICROSOFT-CDO-ALLDAYEVENT:FALSE
SUMMARY:MLK Jr. Day of Volunteer Service - Second Harvest Food Bank
DESCRIPTION:Martin Luther King Jr Day of Volunteer Service\n\n\n\nSecond Harvest Food Bank of Northeast Tennessee is hosting a day of service in honor of Dr. Martin Luther King and his vision of a world without hunger. The MLK Day of Service will take place on January 16th\, and provide community members with an opportunity to volunteer and honor Dr. King's legacy by serving the community. More information on volunteer opportunities will be announced soon.\n\nCommunity members are encouraged to volunteer or make monetary donations to help procure and distribute millions of pounds of food across our eight-county region in Northeast Tennessee. Donations can be made and information on volunteer opportunities can be found at www.netfoodbank.org or by emailing volunteers@netfoodbank.org
X-ALT-DESC;FMTTYPE=text/html:<div><br />\n<span style="font-size:24px"><strong>Martin Luther King Jr Day of Volunteer Service</strong></span><br />\n<br />\nSecond Harvest Food Bank of Northeast Tennessee is hosting a day of service in honor of Dr. Martin Luther King and his vision of a world without hunger. The MLK Day of Service will take place on January 16th\, and provide community members with an opportunity to volunteer and honor Dr. King&rsquo\;s legacy by serving the community. More information on volunteer opportunities will be announced soon.</div>\n\n<div>Community members are encouraged to volunteer or make monetary donations to help procure and distribute millions of pounds of food across our eight-county region in Northeast Tennessee. Donations can be made and information on volunteer opportunities can be found at&nbsp\;<a class="x1i10hfl xjbqb8w x6umtig x1b1mbwd xaqea5y xav7gou x9f619 x1ypdohk xt0psk2 xe8uvvx xdj266r x11i5rnm xat24cr x1mh8g0r xexx8yu x4uap5 x18d9i69 xkhd6sd x16tdsg8 x1hl2dhg xggy1nq x1a2a7pz xt0b8zv x1fey0fg" href="https://l.facebook.com/l.php?u=http%3A%2F%2Fwww.netfoodbank.org%2F%3Ffbclid%3DIwAR1eIvmjDKhbh4c9XhrjdmmbgSEofhXPTVrSnEFVVfj5ea5OodGPTDae268&amp\;h=AT3u55hkDre9Ih0ybV4ioBGppj3rk_pysos4sRVk8b8kSLPHooto-2NwvvFp68y22wO8k8sEzhl249Q1DwfTKbyuioHr7Ov4VeX9Q2McpK8JK0AJn-h2eBKCxfpj1LkVIQ&amp\;__tn__=q&amp\;c[0]=AT0oURmzsc2b3zYzM4ouHdWEIG-1gRK_O5LbCwED7Oa-A9zG3OfdoFuMXOGWuO227qdubysKCMNoMN5526r-ce9khJZbFGMu3NA7x3XdimUqW1CaneJtVP6ur2LlTKRUbqmatdnVkqbOcoZvSSIqninw987otzP_sJ6ZW1LEGnOkF9KutSc" rel="nofollow noopener" style="color: var(--blue-link)\; cursor: pointer\; text-decoration-line: none\; margin: 0px\; text-align: inherit\; padding: 0px\; outline: none\; border-width: 0px\; border-style: initial\; border-color: initial\; -webkit-tap-highlight-color: transparent\; box-sizing: border-box\; list-style: none\; touch-action: manipulation\; background-color: transparent\; display: inline\; font-family: inherit\;" tabindex="0" target="_blank">www.netfoodbank.org</a>&nbsp\;or by emailing volunteers@netfoodbank.org</div>\n
LOCATION:Second Harvest Food Bank of Northeast Tennessee 1020 Jericho Drive Kingsport TN 37663
UID:e.2564.795441
SEQUENCE:3
DTSTAMP:20260420T043620Z
URL:https://business.bristolchamber.com/events/details/mlk-jr-day-of-volunteer-service-second-harvest-food-bank-795441
END:VEVENT

END:VCALENDAR
