BEGIN:VCALENDAR
VERSION:2.0
PRODID:-//ChamberMaster//Event Calendar 2.0//EN
METHOD:PUBLISH
X-PUBLISHED-TTL:P3D
REFRESH-INTERVAL:P3D
CALSCALE:GREGORIAN
BEGIN:VEVENT
DTSTART:20191222T193000Z
DTEND:20191222T210000Z
X-MICROSOFT-CDO-ALLDAYEVENT:FALSE
SUMMARY:Miracle On 34th Street Presented By Theatre Bristol
DESCRIPTION:Theatre Bristol presents "Miracle on 34th Street" this Christmas under the direction of Dottie Havlik\, opening December 6 and running weekends through December 22 at Theatre Bristol's ARTspace\, 506 State Street\, Bristol\, TN
X-ALT-DESC;FMTTYPE=text/html:<span style="color: rgb(114\, 107\, 96)\; font-family: Lora\, Georgia\, serif\; font-size: 18px\; background-color: rgba(252\, 251\, 249\, 0.9)\;">Theatre Bristol presents &ldquo\;Miracle on 34th Street&rdquo\; this Christmas under the direction of Dottie Havlik\, opening December 6 and running weekends through December 22 at Theatre Bristol&rsquo\;s ARTspace\, 506 State Street\, Bristol\, TN</span>
LOCATION:Theatre Bristol's ARTspace
UID:e.2564.794226
SEQUENCE:3
DTSTAMP:20260424T043510Z
URL:https://business.bristolchamber.com/events/details/miracle-on-34th-street-presented-by-theatre-bristol-794226
END:VEVENT

END:VCALENDAR
