BEGIN:VCALENDAR
VERSION:2.0
PRODID:-//ChamberMaster//Event Calendar 2.0//EN
METHOD:PUBLISH
X-PUBLISHED-TTL:P3D
REFRESH-INTERVAL:P3D
CALSCALE:GREGORIAN
BEGIN:VEVENT
DTSTART:20220529T200000Z
DTEND:20220530T020000Z
X-MICROSOFT-CDO-ALLDAYEVENT:FALSE
SUMMARY:Million Dollar Quartet
DESCRIPTION:Two big shows at the Paramount!  The Million Dollar Quartet is the Tony  Award-winning smash-hit musical inspired by the famed recording session that brought together rock 'n' roll icons Elvis Presley\, Johnny Cash\, Jerry Lee Lewis\, and Carl Perkins for the first and only time. On December 4\, 1956\, these four young musicians gathered at Sun Records in Memphis for what would be one of the greatest rock 'n' roll jam sessions ever. Million Dollar Quartet brings that unbelievable musical moment to life\, featuring timeless and enduring hits including "Blue Suede Shoes\," "Fever\," "That's All Right\," "Sixteen Tons\," "I Walk the Line\," "Great Balls of Fire\," "Folsom Prison Blues\," "Whole Lotta Shakin' Goin' On\," "Hound Dog\," and more. Don't miss your chance to experience this red-hot moment in rock 'n' roll history at Million Dollar Quartet!
X-ALT-DESC;FMTTYPE=text/html:Two big shows at the Paramount!&nbsp\; The Million Dollar Quartet is the Tony&reg\; Award-winning smash-hit musical inspired by the famed recording session that brought together rock &lsquo\;n&rsquo\; roll icons Elvis Presley\, Johnny Cash\, Jerry Lee Lewis\, and Carl Perkins for the first and only time. On December 4\, 1956\, these four young musicians gathered at Sun Records in Memphis for what would be one of the greatest rock &lsquo\;n&rsquo\; roll jam sessions ever. Million Dollar Quartet brings&nbsp\;that unbelievable musical moment to life\, featuring timeless and enduring hits including &ldquo\;Blue Suede Shoes\,&rdquo\; &ldquo\;Fever\,&rdquo\; &ldquo\;That&rsquo\;s All Right\,&rdquo\; &ldquo\;Sixteen Tons\,&rdquo\; &ldquo\;I Walk the Line\,&rdquo\; &ldquo\;Great Balls of Fire\,&rdquo\; &ldquo\;Folsom Prison Blues\,&rdquo\; &ldquo\;Whole Lotta Shakin&rsquo\; Goin&rsquo\; On\,&rdquo\; &ldquo\;Hound Dog\,&rdquo\; and more. Don&rsquo\;t miss your chance to experience this red-hot moment in rock &lsquo\;n&rsquo\; roll history at Million Dollar Quartet!
LOCATION:Paramount Bristol
UID:e.2564.795196
SEQUENCE:3
DTSTAMP:20260422T102756Z
URL:https://business.bristolchamber.com/events/details/million-dollar-quartet-795196
END:VEVENT

END:VCALENDAR
