BEGIN:VCALENDAR
VERSION:2.0
PRODID:-//ChamberMaster//Event Calendar 2.0//EN
METHOD:PUBLISH
X-PUBLISHED-TTL:P3D
REFRESH-INTERVAL:P3D
CALSCALE:GREGORIAN
BEGIN:VEVENT
DTSTART:20191207T010000Z
DTEND:20191207T023000Z
X-MICROSOFT-CDO-ALLDAYEVENT:FALSE
SUMMARY:Mike Farris Sings! The Soul of Christmas
DESCRIPTION:Taking a path that intertwines rock\, blues and gospel that has allowed him to rediscover and reinterpret traditional gospel music and add his own mix of Stax influenced blue-eyed soul\, Grammy Award-winning artist Mike Farris performs a special Christmas celebration that is sure to bring down the house and ring in the holidays on the finest of notes!
X-ALT-DESC;FMTTYPE=text/html:<span style="font-family: &quot\;Helvetica Neue&quot\;\, Helvetica\, Arial\, sans-serif\; font-size: 14px\; background-color: rgb(255\, 255\, 255)\;">Taking a path that intertwines rock\, blues and gospel that has allowed him to rediscover and reinterpret traditional gospel music and add his own mix of Stax influenced blue-eyed soul\, Grammy Award-winning artist Mike Farris performs a special Christmas celebration that is sure to bring down the house and ring in the holidays on the finest of notes!</span>
LOCATION:Paramount Bristol
UID:e.2564.794190
SEQUENCE:3
DTSTAMP:20260424T043801Z
URL:https://business.bristolchamber.com/events/details/mike-farris-sings-the-soul-of-christmas-794190
END:VEVENT

END:VCALENDAR
