BEGIN:VCALENDAR
VERSION:2.0
PRODID:-//ChamberMaster//Event Calendar 2.0//EN
METHOD:PUBLISH
X-PUBLISHED-TTL:P3D
REFRESH-INTERVAL:P3D
CALSCALE:GREGORIAN
BEGIN:VEVENT
DTSTART:20190718T143000Z
DTEND:20190719T020000Z
X-MICROSOFT-CDO-ALLDAYEVENT:FALSE
SUMMARY:McAlister's Deli Free Tea Day
DESCRIPTION:Free tea all day. Visit McAlister's Deli on Thursday\, July 18th\, when guests can get a FREE 32 oz. Famous Sweet (or Unsweet) Tea. If you don't have time to make it in\, don't worry you can still place an order online for pick-up or order through your local delivery partner. It's the sweetest celebration of the year!
X-ALT-DESC;FMTTYPE=text/html:Free tea&mdash\;all day. Visit McAlister&#39\;s Deli on Thursday\, July 18th\, when guests can get a FREE 32 oz. Famous Sweet (or Unsweet) Tea. If you don&#39\;t have time to make it in\, don&rsquo\;t worry&mdash\;you can still place an order online for pick-up or order through your local delivery partner. It&#39\;s the sweetest celebration of the year!
LOCATION:Tri-Cities McAlister's
UID:e.2564.792043
SEQUENCE:3
DTSTAMP:20260424T125349Z
URL:https://business.bristolchamber.com/events/details/mcalister-s-deli-free-tea-day-792043
END:VEVENT

END:VCALENDAR
