BEGIN:VCALENDAR
VERSION:2.0
PRODID:-//ChamberMaster//Event Calendar 2.0//EN
METHOD:PUBLISH
X-PUBLISHED-TTL:P3D
REFRESH-INTERVAL:P3D
CALSCALE:GREGORIAN
BEGIN:VEVENT
DTSTART:20191009T140000Z
DTEND:20191009T160000Z
X-MICROSOFT-CDO-ALLDAYEVENT:FALSE
SUMMARY:Maximizing Ability in your Community
DESCRIPTION:Employment of individuals with disabilities in southwest Virginia is lower than other parts of the Commonwealth. Virginia Commonwealth University\, in partnership with the Virginia Board for People with Disabilities and Stand Up\, Inc.\, is offering training to educate businesses\, employment specialists\, and advocates with disabilities on how to maximize ability in your community.
X-ALT-DESC;FMTTYPE=text/html:Employment of individuals with disabilities in southwest Virginia is lower than other parts of the Commonwealth. Virginia Commonwealth University\, in partnership with the Virginia Board for People with Disabilities and Stand Up\, Inc.\, is offering training to educate businesses\, employment specialists\, and advocates with disabilities on how to maximize ability in your community.
LOCATION:Southwest VA Community College King Community Center Community College Road Cedar Bluff\, VA 24609
UID:e.2564.792118
SEQUENCE:3
DTSTAMP:20260422T065627Z
URL:https://business.bristolchamber.com/events/details/maximizing-ability-in-your-community-792118
END:VEVENT

END:VCALENDAR
