BEGIN:VCALENDAR
VERSION:2.0
PRODID:-//ChamberMaster//Event Calendar 2.0//EN
METHOD:PUBLISH
X-PUBLISHED-TTL:P3D
REFRESH-INTERVAL:P3D
CALSCALE:GREGORIAN
BEGIN:VEVENT
DTSTART:20190426T150000Z
DTEND:20190426T210000Z
X-MICROSOFT-CDO-ALLDAYEVENT:FALSE
SUMMARY:Marsh Regional Blood Center's 6th Annual Scholarship Golf Tournament
DESCRIPTION:Hit the course for a cause. Just like Marsh Regional Blood Center's service to the community\, all proceeds from this tournament will benefit students and high schools in our area. Register as an individual or team today.
X-ALT-DESC;FMTTYPE=text/html:Hit the course for a cause. Just like Marsh Regional Blood Center&#39\;s service to the community\, all proceeds from this tournament will benefit students and high schools in our area. Register as an individual or team today.
LOCATION:Warriors Path Golf Course
UID:e.2564.791973
SEQUENCE:3
DTSTAMP:20260424T161347Z
URL:https://business.bristolchamber.com/events/details/marsh-regional-blood-center-s-6th-annual-scholarship-golf-tournament-791973
END:VEVENT

END:VCALENDAR
