BEGIN:VCALENDAR
VERSION:2.0
PRODID:-//ChamberMaster//Event Calendar 2.0//EN
METHOD:PUBLISH
X-PUBLISHED-TTL:P3D
REFRESH-INTERVAL:P3D
CALSCALE:GREGORIAN
BEGIN:VEVENT
DTSTART:20190314T153000Z
DTEND:20190314T170000Z
X-MICROSOFT-CDO-ALLDAYEVENT:FALSE
SUMMARY:Marketing Lunch & Learn
DESCRIPTION:Rick Keller will discuss how to gain a clear vision of who your target audience is\, pick the channels that work best for your business\, keep a consistent look\, and more. For more info or to register\, click https://www.eventbrite.com/e/what-is-an-integrated-marketing-solution-tickets-57418174305?aff=ebdssbdestsearch
X-ALT-DESC;FMTTYPE=text/html:Rick Keller will discuss how to gain a clear vision of who your target audience is\, pick the channels that work best for your business\, keep a consistent look\, and more. For more info or to register\, click https://www.eventbrite.com/e/what-is-an-integrated-marketing-solution-tickets-57418174305?aff=ebdssbdestsearch
LOCATION:The Summit 1227 Volunteer Parkway Bristol\, TN 37620
UID:e.2564.791938
SEQUENCE:3
DTSTAMP:20260424T173018Z
URL:https://business.bristolchamber.com/events/details/marketing-lunch-learn-791938
END:VEVENT

END:VCALENDAR
