BEGIN:VCALENDAR
VERSION:2.0
PRODID:-//ChamberMaster//Event Calendar 2.0//EN
METHOD:PUBLISH
X-PUBLISHED-TTL:P3D
REFRESH-INTERVAL:P3D
CALSCALE:GREGORIAN
BEGIN:VEVENT
DTSTART:20191202T003000Z
DTEND:20191202T040000Z
X-MICROSOFT-CDO-ALLDAYEVENT:FALSE
SUMMARY:Mark O'Connor Band
DESCRIPTION:Mark O'Connor Band
X-ALT-DESC;FMTTYPE=text/html:Mark O&#39\;Connor Band
LOCATION:Paramount Center for the arts- Bristol\, TN
UID:e.2564.794124
SEQUENCE:3
DTSTAMP:20260423T080631Z
URL:https://business.bristolchamber.com/events/details/mark-o-connor-band-794124
END:VEVENT

END:VCALENDAR
