BEGIN:VCALENDAR
VERSION:2.0
PRODID:-//ChamberMaster//Event Calendar 2.0//EN
METHOD:PUBLISH
X-PUBLISHED-TTL:P3D
REFRESH-INTERVAL:P3D
CALSCALE:GREGORIAN
BEGIN:VEVENT
DTSTART:20191026T230000Z
DTEND:20191027T020000Z
X-MICROSOFT-CDO-ALLDAYEVENT:FALSE
SUMMARY:March of Dimes Spooks & Spirits
DESCRIPTION:March of Dimes Spooks & Spirits Costume & Cocktail Party Proudly presented by: FriendshipCars.com Participating Food Vendors Olive Oil Divine~Metz Culinary~Chocolate Elegance~Beef O Brady's~ Chads' BBQ Catering~Bristol Garden and Grill~Bristol Cafe and Market~Just Smoke It Borowski Style BBQ & Catering~ Private Donor Beer\, Bourbon and Wine Tasting provided by Pit Row Wine and Liquor Event will include an "Adult Trunk or Treat" provided by First Tennessee Regional Group Mustang Club Event will include a 15 minute mobile haunted Escape Room by the Art of Escape Costumes are encouraged with contest for the 1st\, 2nd and 3rd Prize Must be 21 to attend.
X-ALT-DESC;FMTTYPE=text/html:March of Dimes Spooks &amp\; Spirits Costume &amp\; Cocktail Party Proudly presented by: FriendshipCars.com Participating Food Vendors Olive Oil Divine~Metz Culinary~Chocolate Elegance~Beef O Brady&#39\;s~ Chads&#39\; BBQ Catering~Bristol Garden and Grill~Bristol Cafe and Market~Just Smoke It Borowski Style BBQ &amp\; Catering~ Private Donor Beer\, Bourbon and Wine Tasting provided by Pit Row Wine and Liquor Event will include an &quot\;Adult Trunk or Treat&quot\; provided by First Tennessee Regional Group Mustang Club Event will include a 15 minute mobile haunted Escape Room by the Art of Escape Costumes are encouraged with contest for the 1st\, 2nd and 3rd Prize Must be 21 to attend.
LOCATION:Friendship Ford Bristol 3192 W. State Street Bristol\, TN
UID:e.2564.794129
SEQUENCE:3
DTSTAMP:20260424T072831Z
URL:https://business.bristolchamber.com/events/details/march-of-dimes-spooks-spirits-10-26-2019-794129
END:VEVENT

END:VCALENDAR
