BEGIN:VCALENDAR
VERSION:2.0
PRODID:-//ChamberMaster//Event Calendar 2.0//EN
METHOD:PUBLISH
X-PUBLISHED-TTL:P3D
REFRESH-INTERVAL:P3D
CALSCALE:GREGORIAN
BEGIN:VEVENT
DTSTART:20211030T210000Z
DTEND:20211031T000000Z
X-MICROSOFT-CDO-ALLDAYEVENT:FALSE
SUMMARY:Light The Night Harvest Festival
DESCRIPTION:Make your plans now to attend this incredible event for your family and friends! All ages are welcome and admission is free! Make sure you use the hashtags #harvestfest and #cfclightthenight when you check in and on your photos! There will be hot dogs\, popcorn\, cotton candy\, corn hole\, costume contests\, jump houses\, fire pits and s'mores\, hay rides\, a cake walk\, trunk or treat\, a photo booth\, raffles\, music and more!
X-ALT-DESC;FMTTYPE=text/html:Make your plans now to attend this incredible event for your family and friends! All ages are welcome and admission is free! Make sure you use the hashtags #harvestfest and #cfclightthenight when you check in and on your photos! There will be hot dogs\, popcorn\, cotton candy\, corn hole\, costume contests\, jump houses\, fire pits and s&#39\;mores\, hay rides\, a cake walk\, trunk or treat\, a photo booth\, raffles\, music and more!
LOCATION:Covenant Fellowship Church 2004 Lee Hwy Bristol\, VA
UID:e.2564.794962
SEQUENCE:3
DTSTAMP:20260422T222817Z
URL:https://business.bristolchamber.com/events/details/light-the-night-harvest-festival-794962
END:VEVENT

END:VCALENDAR
