BEGIN:VCALENDAR
VERSION:2.0
PRODID:-//ChamberMaster//Event Calendar 2.0//EN
METHOD:PUBLISH
X-PUBLISHED-TTL:P3D
REFRESH-INTERVAL:P3D
CALSCALE:GREGORIAN
BEGIN:VEVENT
DTSTART:20190814T130000Z
DTEND:20190815T200000Z
X-MICROSOFT-CDO-ALLDAYEVENT:FALSE
SUMMARY:Leadership Emotional Intelligence Seminar
DESCRIPTION:Seminar: A Journey in Self-Awareness Join us as Mark Hecht discusses how effective leaders not only manage their own LEQ well\, but are able to harness the power of emotions to create connections with others and positively influence their organizations.
X-ALT-DESC;FMTTYPE=text/html:Seminar: A Journey in Self-Awareness Join us as Mark Hecht discusses how effective leaders not only manage their own LEQ well\, but are able to harness the power of emotions to create connections with others and positively influence their organizations.
LOCATION:The Summit 1227 Volunteer Parkway Bristol\, TN 37620
UID:e.2564.792050
SEQUENCE:3
DTSTAMP:20260422T023907Z
URL:https://business.bristolchamber.com/events/details/leadership-emotional-intelligence-seminar-792050
END:VEVENT

END:VCALENDAR
