BEGIN:VCALENDAR
VERSION:2.0
PRODID:-//ChamberMaster//Event Calendar 2.0//EN
METHOD:PUBLISH
X-PUBLISHED-TTL:P3D
REFRESH-INTERVAL:P3D
CALSCALE:GREGORIAN
BEGIN:VEVENT
DTSTART:20221105T000000Z
DTEND:20221105T030000Z
X-MICROSOFT-CDO-ALLDAYEVENT:FALSE
SUMMARY:Kingsport Chamber's 75-Year Celebration
DESCRIPTION:Join your Kingsport Chamber for a one-of-a-kind\, one-night only performance featuring three world-acclaimed Broadway Stars\, along with Symphony of the Mountains and the Dobyns-Bennett High School Chamber Choir!\n\nFrom Broadway to Hollywood takes place on Friday\, November 4\, 2022 at MeadowView Marriott.\n\nDoors open at 7 p.m. and the concert begins at 8 p.m.\n\n\n\nTickets cost $75 each with theatre-style seating and can be purchased here.\n\n\n	\n	\n	For more information\, contact Ashley Cline at acline@kingsportchamber.org or call 423-392-8827.\n\n	MeadowView will be offering wine\, hors d'oeuvres and dessert packages for pre-purchase.  This will be a separate cost from the ticket. \n\n	To pre-order those packages\, please call Libby Ray\, MeadowView sales administrative assistant\, at (423) 578-6616 or via email at libby.ray@marriott.com.
X-ALT-DESC;FMTTYPE=text/html:<p style="padding-top: 0px\; margin: 0px 0px 14px\; color: rgb(85\, 85\, 85)\; font-family: &quot\;Helvetica Neue&quot\;\, Helvetica\, Arial\, sans-serif\; font-size: 14px\;"><span style="color: rgb(0\, 0\, 0)\;"><strong><span style="font-size: 16px\;"><span style="font-family: arial\, helvetica\, sans-serif\;">Join your Kingsport Chamber for a one-of-a-kind\, one-night only performance featuring three world-acclaimed Broadway Stars\, along with Symphony of the Mountains and the Dobyns-Bennett High School Chamber Choir!</span></span></strong></span></p>\n\n<p style="padding-top: 0px\; margin: 0px 0px 14px\; color: rgb(85\, 85\, 85)\; font-family: &quot\;Helvetica Neue&quot\;\, Helvetica\, Arial\, sans-serif\; font-size: 14px\;"><span style="color: rgb(0\, 0\, 0)\;"><strong><span style="font-size: 16px\;"><span style="font-family: arial\, helvetica\, sans-serif\;">From Broadway to Hollywood takes place on Friday\, November 4\, 2022 at MeadowView Marriott.</span></span></strong></span></p>\n\n<p style="padding-top: 0px\; margin: 0px 0px 14px\; color: rgb(85\, 85\, 85)\; font-family: &quot\;Helvetica Neue&quot\;\, Helvetica\, Arial\, sans-serif\; font-size: 14px\;"><span style="color: rgb(0\, 0\, 0)\;"><strong><span style="font-size: 16px\;"><span style="font-family: arial\, helvetica\, sans-serif\;">Doors open at 7 p.m. and the c</span></span><span style="font-size: 16px\;"><span style="font-family: arial\, helvetica\, sans-serif\;">oncert begins at 8 p.m.</span></span></strong></span><br />\n<br />\n<strong><span style="font-size: 16px\;"><span style="font-family: arial\, helvetica\, sans-serif\;"><span style="color: rgb(0\, 0\, 0)\;">Tickets cost $75 each with theatre-style seating and&nbsp\;</span><em><a href="https://checkout.square.site/merchant/F72NPEHW5ZKBP/checkout/E2B6ZNPBGYXHZFXRUOERYOEY" style="text-decoration-line: none\; color: rgb(107\, 148\, 74)\; transition-duration: 200ms\; transition-property: color\, opacity\; transition-timing-function: ease-in-out\;"><span style="color: rgb(0\, 0\, 255)\;">can be purchased here</span></a></em><span style="color: rgb(0\, 0\, 0)\;">.</span></span></span></strong></p>\n\n<ul class="cms-widgets" style="margin: 0px\; padding-right: 0px\; padding-left: 0px\; color: rgb(85\, 85\, 85)\; font-family: &quot\;Helvetica Neue&quot\;\, Helvetica\, Arial\, sans-serif\; font-size: 14px\;">\n	<li class="cms-widget published " contentid="656249" contenttypeid="6" order="1" pageareaid="FlexSlider" style="list-style-type: none !important\; padding: 0px !important\; list-style-image: none !important\; border: none !important\;">\n	<div class="cms-design-panel" id="content-656249">\n	<p style="padding-top: 0px\; margin: 0px 0px 14px\;"><strong><span style="font-family: arial\, helvetica\, sans-serif\;"><span style="font-size: 16px\;"><span style="color: rgb(0\, 0\, 0)\;">For more information\, contact Ashley Cline at&nbsp\;</span><em><a href="mailto:acline@kingsportchamber.org" style="text-decoration-line: none\; color: rgb(107\, 148\, 74)\; transition-duration: 200ms\; transition-property: color\, opacity\; transition-timing-function: ease-in-out\;"><span style="color: rgb(0\, 0\, 255)\;">acline@kingsportchamber.org</span></a></em><span style="color: rgb(0\, 0\, 0)\;">&nbsp\;or call 423-392-8827.</span></span></span></strong></p>\n\n	<p style="padding-top: 0px\; margin: 0px 0px 14px\;"><span style="color: rgb(0\, 0\, 0)\;"><strong><span style="font-size: 16px\;"><span style="font-family: arial\, helvetica\, sans-serif\;">MeadowView will be offering wine\, hors d&#39\;oeuvres and dessert packages for pre-purchase.&nbsp\; This will be a separate cost from the ticket.&nbsp\;</span></span></strong></span></p>\n\n	<p style="padding-top: 0px\; margin: 0px 0px 14px\;"><strong><span style="font-size: 16px\;"><span style="font-family: arial\, helvetica\, sans-serif\;"><span style="color: rgb(0\, 0\, 0)\;">To pre-order those packages\, please call Libby Ray\, MeadowView sales administrative assistant\, at (423) 578-6616 or via email at&nbsp\;</span></span></span><em><span style="font-size: 16px\;"><span style="font-family: arial\, helvetica\, sans-serif\;"><a href="mailto:libby.ray@marriott.com" style="text-decoration-line: none\; color: rgb(107\, 148\, 74)\; transition-duration: 200ms\; transition-property: color\, opacity\; transition-timing-function: ease-in-out\;"><span style="color: rgb(0\, 0\, 255)\;">libby.ray@marriott.com</span></a></span></span></em><span style="font-size: 16px\;"><span style="font-family: arial\, helvetica\, sans-serif\;">.</span></span></strong></p>\n	</div>\n	</li>\n</ul>\n
LOCATION:MeadowView Marriott Conference Resort & Convention Center
UID:e.2564.795363
SEQUENCE:3
DTSTAMP:20260420T072703Z
URL:https://business.bristolchamber.com/events/details/kingsport-chamber-s-75-year-celebration-795363
END:VEVENT

END:VCALENDAR
