BEGIN:VCALENDAR
VERSION:2.0
PRODID:-//ChamberMaster//Event Calendar 2.0//EN
METHOD:PUBLISH
X-PUBLISHED-TTL:P3D
REFRESH-INTERVAL:P3D
CALSCALE:GREGORIAN
BEGIN:VEVENT
DTSTART:20221001T160000Z
DTEND:20221001T200000Z
X-MICROSOFT-CDO-ALLDAYEVENT:FALSE
SUMMARY:KingFest
DESCRIPTION:The third annual KingFest event includes fall-themed activities for all ages\, NCAA sporting events\, a delicious picnic lunch\, and more. Bring your family on campus for pumpkin decorating\, face painting\, and balloon animals\, then cheer on your King Tornado in soccer and volleyball. Admission is FREE but registration is required at www.king.edu/kingfest
X-ALT-DESC;FMTTYPE=text/html:The third annual KingFest event includes fall-themed activities for all ages\, NCAA sporting events\, a delicious picnic lunch\, and more. Bring your family on campus for pumpkin decorating\, face painting\, and balloon animals\, then cheer on your King Tornado in soccer and volleyball. Admission is FREE but registration is required at www.king.edu/kingfest
LOCATION:King University Campus 1350 King College Road Bristol\, TN 37620
UID:e.2564.795306
SEQUENCE:3
DTSTAMP:20260420T065859Z
URL:https://business.bristolchamber.com/events/details/kingfest-795306
END:VEVENT

END:VCALENDAR
