BEGIN:VCALENDAR
VERSION:2.0
PRODID:-//ChamberMaster//Event Calendar 2.0//EN
METHOD:PUBLISH
X-PUBLISHED-TTL:P3D
REFRESH-INTERVAL:P3D
CALSCALE:GREGORIAN
BEGIN:VEVENT
DTSTART:20231007T150000Z
DTEND:20231007T190000Z
X-MICROSOFT-CDO-ALLDAYEVENT:FALSE
SUMMARY:KingFest 2023
DESCRIPTION:King University invites you to be our guest at the fourth annual KingFest on Saturday\, October 7. The event is in conjunction with Family Weekend and includes fall-themed activities\, NCAA sporting events\, alumni gatherings\, delicious food\, and more. Families of current students\, students\, alumni\, friends\, faculty\, staff\, and the greater Bristol community are all invited to KingFest. Activities begin at 11:00 a.m. and go throughout the afternoon and evening.
X-ALT-DESC;FMTTYPE=text/html:King University invites you to be our guest at the fourth annual KingFest on Saturday\, October 7. The event is in conjunction with Family Weekend and includes fall-themed activities\, NCAA sporting events\, alumni gatherings\, delicious food\, and more. Families of current students\, students\, alumni\, friends\, faculty\, staff\, and the greater Bristol community are all invited to KingFest. Activities begin at 11:00 a.m. and go throughout the afternoon and evening.
LOCATION:Parks Field 1350 King College Rd. Bristol\, TN 37620
UID:e.2564.796035
SEQUENCE:3
DTSTAMP:20260419T154543Z
URL:https://business.bristolchamber.com/events/details/kingfest-2023-796035
END:VEVENT

END:VCALENDAR
