BEGIN:VCALENDAR
VERSION:2.0
PRODID:-//ChamberMaster//Event Calendar 2.0//EN
METHOD:PUBLISH
X-PUBLISHED-TTL:P3D
REFRESH-INTERVAL:P3D
CALSCALE:GREGORIAN
BEGIN:VEVENT
DTSTART:20231007T150000Z
DTEND:20231007T190000Z
X-MICROSOFT-CDO-ALLDAYEVENT:FALSE
SUMMARY:KingFest
DESCRIPTION:Join us at King University for the fourth annual KingFest! The event is in conjunction with Family Weekend and includes fall-themed activities\, NCAA sporting events\, alumni gatherings\, delicious food\, and more! Current students and their families\, alumni\, friends\, faculty\, staff\, and the greater Bristol community are all invited. Admission is free but registration is required. Please visit king.edu/kingfest for more information and to register.
X-ALT-DESC;FMTTYPE=text/html:Join us at King University for the fourth annual KingFest! The event is in conjunction with Family Weekend and includes fall-themed activities\, NCAA sporting events\, alumni gatherings\, delicious food\, and more! Current students and their families\, alumni\, friends\, faculty\, staff\, and the greater Bristol community are all invited. Admission is free but registration is required. Please visit king.edu/kingfest for more information and to register.
LOCATION:King University 1350 King College Road Bristol\, TN 37620
UID:e.2564.796023
SEQUENCE:3
DTSTAMP:20260419T154920Z
URL:https://business.bristolchamber.com/events/details/kingfest-10-07-2023-796023
END:VEVENT

END:VCALENDAR
