BEGIN:VCALENDAR
VERSION:2.0
PRODID:-//ChamberMaster//Event Calendar 2.0//EN
METHOD:PUBLISH
X-PUBLISHED-TTL:P3D
REFRESH-INTERVAL:P3D
CALSCALE:GREGORIAN
BEGIN:VEVENT
DTSTART:20190214T140000Z
DTEND:20190216T230000Z
X-MICROSOFT-CDO-ALLDAYEVENT:FALSE
SUMMARY:Just Fish'n Open House
DESCRIPTION:Open House February 14th\, 15th\, and 16th! Lots of great deals and giveaways!!!
X-ALT-DESC;FMTTYPE=text/html:<div>\n<h5>Open House February 14th\, 15th\, and 16th! Lots of great deals and giveaways!!!</h5>\n</div>\n
LOCATION:Just Fish'n Store 15579 Lee Highway Bristol\, VA 24202
UID:e.2564.791910
SEQUENCE:3
DTSTAMP:20260424T203221Z
URL:https://business.bristolchamber.com/events/details/just-fish-n-open-house-791910
END:VEVENT

END:VCALENDAR
