BEGIN:VCALENDAR
VERSION:2.0
PRODID:-//ChamberMaster//Event Calendar 2.0//EN
METHOD:PUBLISH
X-PUBLISHED-TTL:P3D
REFRESH-INTERVAL:P3D
CALSCALE:GREGORIAN
BEGIN:VEVENT
DTSTART:20191122T200000Z
DTEND:20191122T210000Z
X-MICROSOFT-CDO-ALLDAYEVENT:FALSE
SUMMARY:Jimmie Rodgers Historical Marker Unveiling
DESCRIPTION:You're invited to join us for the unveiling of a new historical marker honoring the legacy of Jimmie Rodgers in Historic Downtown Bristol\, with special guest Marty Stuart.\n\nJimmie Rodgers' first recordings were captured by Ralph Peer during the legendary 1927 Bristol Sessions. This led Rodgers' on a meteoric path to stardom\, earning him status as "The Father of Country Music."\n\nGrammy Award-winning country music artist Marty Stuart grew up in Philadelphia\, Mississippi\, less than an hour away from Meridian where Rodgers was born\, and cites Rodgers as an influence on his own music.\n\nThe historic marker honoring Jimmie Rodgers will be erected on the corner of State Street and Martin Luther King\, Blvd. in Downtown Bristol\, and was created in partnership with the Mississippi Department of Tourism and Marty Stuart
X-ALT-DESC;FMTTYPE=text/html:<p style="font-size: 14px\; margin-bottom: 21.5px\; font-family: &quot\;Helvetica Neue&quot\;\, Helvetica\, Arial\, sans-serif\;">You&rsquo\;re invited to join us for the unveiling of a new historical marker honoring the legacy of Jimmie Rodgers in Historic Downtown Bristol\, with special guest Marty Stuart.</p>\n\n<p style="font-size: 14px\; margin-bottom: 21.5px\; font-family: &quot\;Helvetica Neue&quot\;\, Helvetica\, Arial\, sans-serif\;">Jimmie Rodgers&rsquo\; first recordings were captured by Ralph Peer during the legendary 1927 Bristol Sessions. This led Rodgers&rsquo\; on a meteoric path to stardom\, earning him status as &ldquo\;The Father of Country Music.&rdquo\;</p>\n\n<p style="font-size: 14px\; margin-bottom: 21.5px\; font-family: &quot\;Helvetica Neue&quot\;\, Helvetica\, Arial\, sans-serif\;">Grammy Award-winning country music artist Marty Stuart grew up in Philadelphia\, Mississippi\, less than an hour away from Meridian where Rodgers was born\, and cites Rodgers as an influence on his own music.</p>\n\n<p style="font-size: 14px\; margin-bottom: 21.5px\; font-family: &quot\;Helvetica Neue&quot\;\, Helvetica\, Arial\, sans-serif\;">The historic marker honoring Jimmie Rodgers will be erected on the corner of State Street and Martin Luther King\, Blvd. in Downtown Bristol\, and was created in partnership with the&nbsp\;<a href="https://visitmississippi.org/" style="color: rgb(193\, 42\, 31)\; text-decoration-line: none\;">Mississippi Department of Tourism</a>&nbsp\;and Marty Stuart</p>\n
LOCATION:416 State Street\, Bristol\, TN
UID:e.2564.794193
SEQUENCE:3
DTSTAMP:20260424T055636Z
URL:https://business.bristolchamber.com/events/details/jimmie-rodgers-historical-marker-unveiling-794193
END:VEVENT

END:VCALENDAR
