BEGIN:VCALENDAR
VERSION:2.0
PRODID:-//ChamberMaster//Event Calendar 2.0//EN
METHOD:PUBLISH
X-PUBLISHED-TTL:P3D
REFRESH-INTERVAL:P3D
CALSCALE:GREGORIAN
BEGIN:VEVENT
DTSTART:20231028T223000Z
DTEND:20231028T233000Z
X-MICROSOFT-CDO-ALLDAYEVENT:FALSE
SUMMARY:Inaugural Downtown Halloween Parade
DESCRIPTION:In addition to our ongoing annual traditions of Pumpkin Palooza\, Costume Contests\, and Downtown Trick-or-Treating\, we are pleased to announce the Inaugural Downtown Bristol Halloween Parade! The parade will begin at 6:30pm. The parade route will begin at the municipal lot in front of Bristol TN City Hall (801 Anderson Street) and conclude at the intersection of State Street and Lee Street/5th Street. The route spans approximately 0.5 miles. We are pleased to personally invite Bristol Chamber Members to participate in this event!\n\nThe Bristol TN/VA Inaugural Halloween Parade will feature two distinct categories of participants\, allowing for diverse and enjoyable experiences for all attendees. Parade entrants will self-categorize their entries as either "Fun & Festive" or "Scary & Macabre" to indicate the nature of their costumes and performances. Costumes falling under the "Fun & Festive" category are designed to be suitable for all ages\, emphasizing creativity\, humor\, and the spirit of Halloween without overly scary or frightening elements. The "Scary & Macabre" category delves into the darker and more sinister side of Halloween\, featuring haunting costumes inspired by horror\, the supernatural\, and the macabre.\n\nWe are currently recruiting for both categories of the parade. However\, space is limited and we will be selecting candidates in the coming weeks to ensure a night of high-quality entertainment for our community. Floats are not required\, although you're welcome to do one\, We simply want to showcase our community's creative spirit with costumes\, performances\, and high-energy participants. To register for the parade or find out more about our parade guidelines\, visit believeinbristol.org/halloween. Registration will end on October 22\, 2023.\n\n\n\nAlthough there is a nominal fee for businesses\, nonprofits\, and unaffiliated groups\, registration is free of charge for the cities of Bristol\, TN and Bristol\, VA and their employees.
X-ALT-DESC;FMTTYPE=text/html:<p>In addition to our ongoing annual traditions of Pumpkin Palooza\, Costume Contests\, and Downtown Trick-or-Treating\, we are pleased to announce the&nbsp\;Inaugural&nbsp\;Downtown Bristol&nbsp\;Halloween&nbsp\;Parade! The parade will begin at 6:30pm. The parade route will begin at the municipal lot in front of Bristol TN City Hall (801 Anderson Street) and conclude at the intersection of State Street and Lee Street/5th Street. The route spans approximately 0.5 miles. We are pleased to personally invite Bristol Chamber Members to participate in this event!</p>\n\n<p>The Bristol TN/VA&nbsp\;Inaugural&nbsp\;Halloween&nbsp\;Parade will feature two distinct categories of participants\, allowing for diverse and enjoyable experiences for all attendees. Parade entrants will self-categorize their entries as either &quot\;Fun &amp\; Festive&quot\; or &quot\;Scary &amp\; Macabre&quot\; to indicate the nature of their costumes and performances. Costumes falling under the &quot\;Fun &amp\; Festive&quot\; category are designed to be suitable for all ages\, emphasizing creativity\, humor\, and the spirit of&nbsp\;Halloween&nbsp\;without overly scary or frightening elements. The &quot\;Scary &amp\; Macabre&quot\; category delves into the darker and more sinister side of&nbsp\;Halloween\, featuring haunting costumes inspired by horror\, the supernatural\, and the macabre.</p>\n\n<p>We are currently recruiting for both categories of the parade. However\, space is limited and we will be selecting candidates in the coming weeks to ensure a night of high-quality entertainment for our community. Floats are not required\, although you&#39\;re welcome to do one\, We simply want to showcase our community&#39\;s creative&nbsp\;spirit with costumes\, performances\, and high-energy participants. To register for the parade or find out more about our parade guidelines\, visit&nbsp\;<span style="color:rgb(17\, 85\, 204)"><a href="http://believeinbristol.org/halloween" style="color: rgb(17\, 85\, 204)\;" target="_blank">believeinbristol.org/halloween</a></span>. Registration will end on October 22\, 2023.<br />\n<br />\n<span style="color:rgb(34\, 34\, 34)\; font-family:arial\,sans-serif\; font-size:small">Although there is a nominal fee for businesses\, nonprofits\, and unaffiliated groups\, registration is free of charge for the cities of Bristol\, TN and Bristol\, VA and their employees.</span></p>\n
LOCATION:State Street\, Bristol TN/VA
UID:e.2564.796049
SEQUENCE:3
DTSTAMP:20260419T142953Z
URL:https://business.bristolchamber.com/events/details/inaugural-downtown-halloween-parade-796049
END:VEVENT

END:VCALENDAR
