BEGIN:VCALENDAR
VERSION:2.0
PRODID:-//ChamberMaster//Event Calendar 2.0//EN
METHOD:PUBLISH
X-PUBLISHED-TTL:P3D
REFRESH-INTERVAL:P3D
CALSCALE:GREGORIAN
BEGIN:VEVENT
DTSTART:20200308T210000Z
DTEND:20200308T230000Z
X-MICROSOFT-CDO-ALLDAYEVENT:FALSE
SUMMARY:In My Life - A Musical Theatre Tribute to the Beatles
DESCRIPTION:In My Life   A Musical Theatre Tribute to the Beatles comes to the Paramount Center for the Arts on Sunday\, March 8 at 5:00 pm. Tickets are $27 - $57 and may be purchased by phone at (423) 274.8920\, at the Theatre Box Office or online at www.paramountbristol.org. Discounts available for Paramount Bristol members\, Seniors\, Students and Active Military. The Box Office is open Tuesday   Friday from Noon to 6:00 pm. The Paramount Center is located at 518 State St\, Bristol\, TN 37620. The show is appropriate for all ages.
X-ALT-DESC;FMTTYPE=text/html:In My Life &ndash\; A Musical Theatre Tribute to the Beatles comes to the Paramount Center for the Arts on Sunday\, March 8 at 5:00 pm. Tickets are $27 - $57 and may be purchased by phone at (423) 274.8920\, at the Theatre Box Office or online at www.paramountbristol.org. Discounts available for Paramount Bristol members\, Seniors\, Students and Active Military. The Box Office is open Tuesday &ndash\; Friday from Noon to 6:00 pm. The Paramount Center is located at 518 State St\, Bristol\, TN 37620. The show is appropriate for all ages.
LOCATION:Paramount Center for the Arts
UID:e.2564.794330
SEQUENCE:3
DTSTAMP:20260424T003001Z
URL:https://business.bristolchamber.com/events/details/in-my-life-a-musical-theatre-tribute-to-the-beatles-794330
END:VEVENT

END:VCALENDAR
