BEGIN:VCALENDAR
VERSION:2.0
PRODID:-//ChamberMaster//Event Calendar 2.0//EN
METHOD:PUBLISH
X-PUBLISHED-TTL:P3D
REFRESH-INTERVAL:P3D
CALSCALE:GREGORIAN
BEGIN:VEVENT
DTSTART;VALUE=DATE:20191205
DTEND;VALUE=DATE:20191206
TRANSP:TRANSPARENT
X-MICROSOFT-CDO-ALLDAYEVENT:TRUE
SUMMARY:Hunter Smith & Davis LLP's Annual Labor & Employment Law Seminar 2019
DESCRIPTION:Please join HS&D's Labor & Employment Lawyers on Thursday\, December 5\, 2019 at the Meadowview Conference Center in Kingsport\, TN. There have been several significant developments for employers during the last year\, and 2020 will bring more changes. Topics to be covered: Changes to White Collar Exemptions Religious Discrimination   Mistakes Can Be Costly Whistleblower and Retaliation Cases Handbook and Policy Language Can Erode Employment-At-Will   CASE STUDY: Joshua Keller vs. Janice Casteel\, et al Developments in Tennessee Workers' Compensation Law Immigration Law Update
X-ALT-DESC;FMTTYPE=text/html:Please join HS&amp\;D&rsquo\;s Labor &amp\; Employment Lawyers on Thursday\, December 5\, 2019 at the Meadowview Conference Center in Kingsport\, TN. There have been several significant developments for employers during the last year\, and 2020 will bring more changes. Topics to be covered: Changes to White Collar Exemptions Religious Discrimination &ndash\; Mistakes Can Be Costly Whistleblower and Retaliation Cases Handbook and Policy Language Can Erode Employment-At-Will &mdash\; CASE STUDY: Joshua Keller vs. Janice Casteel\, et al Developments in Tennessee Workers&rsquo\; Compensation Law Immigration Law Update
LOCATION:Meadowview Conference Center - Kingsport\, TN
UID:e.2564.794170
SEQUENCE:3
DTSTAMP:20260424T043552Z
URL:https://business.bristolchamber.com/events/details/hunter-smith-davis-llp-s-annual-labor-employment-law-seminar-2019-794170
END:VEVENT

END:VCALENDAR
