BEGIN:VCALENDAR
VERSION:2.0
PRODID:-//ChamberMaster//Event Calendar 2.0//EN
METHOD:PUBLISH
X-PUBLISHED-TTL:P3D
REFRESH-INTERVAL:P3D
CALSCALE:GREGORIAN
BEGIN:VEVENT
DTSTART:20181109T133000Z
DTEND:20181109T200000Z
X-MICROSOFT-CDO-ALLDAYEVENT:FALSE
SUMMARY:How to Supervise People & Lead a Team (A Glenn Shepard seminar)
DESCRIPTION:Glenn Shepard Seminars presents How to Supervise People and Lead a Team.  This seminar is based on one of Glenn's books\, How to Manage Problem Employees.  \n\n*This program has been approved for 5.50 (General) recertification credit hours toward PHR\, SPHR and GPHR recertification through the HR Certification Institute and SHRM\n\n$199/registration for Chamber members\, $249/registration for non-members  *register 3 and receive the 4th person free!\n\n\n\nClick here for more information
X-ALT-DESC;FMTTYPE=text/html:Glenn Shepard Seminars presents&nbsp\;<em><strong>How to Supervise People and Lead a Team</strong>.&nbsp\; </em>This seminar is based on one of Glenn&#39\;s books\, <em>How to Manage Problem Employees.&nbsp\;&nbsp\;</em><br />\n*This program has been approved for 5.50 (General) recertification credit hours toward PHR\, SPHR and GPHR recertification through the HR Certification Institute and SHRM<br />\n<strong>$199/registration for Chamber members\, $249/registration for non-members&nbsp\; *register 3 and receive the 4th person free!</strong><br />\n<br />\n<a href="https://chambermaster.blob.core.windows.net/userfiles/UserFiles/chambers/2564/File/11-9-18BristolTNbrochurerv1.pdf">Click here for more information</a>
LOCATION:The Bristol Hotel 510 Birthplace of Country Music Way Bristol\, VA 24201
UID:e.2564.791741
SEQUENCE:3
DTSTAMP:20260424T235609Z
URL:https://business.bristolchamber.com/events/details/how-to-supervise-people-lead-a-team-a-glenn-shepard-seminar-791741
END:VEVENT

END:VCALENDAR
