BEGIN:VCALENDAR
VERSION:2.0
PRODID:-//ChamberMaster//Event Calendar 2.0//EN
METHOD:PUBLISH
X-PUBLISHED-TTL:P3D
REFRESH-INTERVAL:P3D
CALSCALE:GREGORIAN
BEGIN:VEVENT
DTSTART:20190821T150000Z
DTEND:20190821T220000Z
X-MICROSOFT-CDO-ALLDAYEVENT:FALSE
SUMMARY:House Dressing on the Side Grand Opening
DESCRIPTION:DO YOU LIKE BARGAINS? Introducing...HOUSE DRESSING ON THE SIDE- DISCOUNT BINS! We are EXPANDING across the parking lot\, to 66 Euclid Avenue\; Bristol\, Virginia. GRAND OPENING Wednesday\, August 21\, 11-6. \n\n \n\nWe're bringing you a NEW concept in DISCOUNT retail. A place to find "ALL THE THINGS YOU NEVER KNEW YOU NEEDED!" No one in our region has tried this before!\n\n \n\n-Thousands of products each week\, consisting of NEW\, name brand\, overstocked & returned products from national retailers like Amazon\, Bed Bath & Beyond and more! Examples could include tools\, toys\, beauty products and hundreds of other options! \n\n \n\n-GIVEAWAYS! The first 50 customers for our grand opening will receive one product of their choice\, to be chosen from our special bin! \n\n \n\n-Pricing goes down daily! EVERYTHING in the store is priced at ONE LOW PRICE Wednesday\, and it goes down each day. \n\n \n\n-Restocking the bins daily!\n\n \n\nIt's going to be a shopping frenzy! You never know what you might find....the fun comes in digging around in the bins! \n\n \n\nNO RETURNS. ALL MERCHANDISE SOLD AS-IS. NO HOLDS. Credit cards & cash only. No checks. \n\n \n\nStore hours: Wed-Fri 11-6 & Sat 11-4
X-ALT-DESC;FMTTYPE=text/html:<span style="font-family:helvetica\,sans-serif\;"><span style="font-size:12.0pt\;">DO YOU LIKE BARGAINS? Introducing...HOUSE DRESSING ON THE SIDE- DISCOUNT BINS! We are EXPANDING across the parking lot\, to 66 Euclid Avenue\; Bristol\, Virginia. GRAND OPENING Wednesday\, August 21\, 11-6.&nbsp\;</span></span><br />\n&nbsp\;<br />\n<span style="font-family:helvetica\,sans-serif\;"><span style="font-size:12.0pt\;">We&rsquo\;re bringing you a NEW concept in DISCOUNT retail. A place to find &ldquo\;ALL THE THINGS YOU NEVER KNEW YOU NEEDED!&rdquo\; No one in our region has tried this before!</span></span><br />\n&nbsp\;<br />\n<span style="font-family:helvetica\,sans-serif\;"><span style="font-size:12.0pt\;">-Thousands of products each week\, consisting of NEW\, name brand\, overstocked &amp\; returned products from national retailers like Amazon\, Bed Bath &amp\; Beyond and more! Examples could include tools\, toys\, beauty products and hundreds of other options!&nbsp\;</span></span><br />\n&nbsp\;<br />\n<span style="font-family:helvetica\,sans-serif\;"><span style="font-size:12.0pt\;">-GIVEAWAYS! The first 50 customers for our grand opening will receive one product of their choice\, to be chosen from our special bin!&nbsp\;</span></span><br />\n&nbsp\;<br />\n<span style="font-family:helvetica\,sans-serif\;"><span style="font-size:12.0pt\;">-Pricing goes down daily! EVERYTHING in the store is priced at ONE LOW PRICE Wednesday\, and it goes down each day.&nbsp\;</span></span><br />\n&nbsp\;<br />\n<span style="font-family:helvetica\,sans-serif\;"><span style="font-size:12.0pt\;">-Restocking the bins daily!</span></span><br />\n&nbsp\;<br />\n<span style="font-family:helvetica\,sans-serif\;"><span style="font-size:12.0pt\;">It&rsquo\;s going to be a shopping frenzy! You never know what you might find....the fun comes in digging around in the bins! </span></span><br />\n&nbsp\;<br />\n<span style="font-family:helvetica\,sans-serif\;"><span style="font-size:12.0pt\;">NO RETURNS. ALL MERCHANDISE SOLD AS-IS. NO HOLDS. Credit cards &amp\; cash only. No checks.&nbsp\;</span></span><br />\n&nbsp\;<br />\n<span style="font-family:helvetica\,sans-serif\;"><span style="font-size:12.0pt\;">Store hours: Wed-Fri 11-6 &amp\; Sat 11-4</span></span>
LOCATION:66 Euclid Avenue Bristol\, Virginia.
UID:e.2564.792062
SEQUENCE:3
DTSTAMP:20260424T112046Z
URL:https://business.bristolchamber.com/events/details/house-dressing-on-the-side-grand-opening-792062
END:VEVENT

END:VCALENDAR
