BEGIN:VCALENDAR
VERSION:2.0
PRODID:-//ChamberMaster//Event Calendar 2.0//EN
METHOD:PUBLISH
X-PUBLISHED-TTL:P3D
REFRESH-INTERVAL:P3D
CALSCALE:GREGORIAN
BEGIN:VEVENT
DTSTART:20220319T140000Z
DTEND:20220319T190000Z
X-MICROSOFT-CDO-ALLDAYEVENT:FALSE
SUMMARY:Hop into Spring Craft Fair - Bristol
DESCRIPTION:
X-ALT-DESC;FMTTYPE=text/html:
LOCATION:YWCA Northeast Tennessee and Southwest Virginia 106 State St\, Bristol\, TN 37620
UID:e.2564.795121
SEQUENCE:3
DTSTAMP:20260422T132412Z
URL:https://business.bristolchamber.com/events/details/hop-into-spring-craft-fair-bristol-795121
END:VEVENT

END:VCALENDAR
