BEGIN:VCALENDAR
VERSION:2.0
PRODID:-//ChamberMaster//Event Calendar 2.0//EN
METHOD:PUBLISH
X-PUBLISHED-TTL:P3D
REFRESH-INTERVAL:P3D
CALSCALE:GREGORIAN
BEGIN:VEVENT
DTSTART:20191201T180000Z
DTEND:20191201T220000Z
X-MICROSOFT-CDO-ALLDAYEVENT:FALSE
SUMMARY:Holiday Open House at The Museum Store
DESCRIPTION:FREE and open to the public\n\nKick-off the season with a Holiday Open House event at The Museum Store in The Birthplace of Country Music Museum!\n\n\nLive music 2:00 p.m.   4:30 p.m.\n\nTastings from recipes featured in cookbooks we carry in The Museum Store\n\nGiveaways featuring artisan items and exclusive BCM merchandise\n\nLocal artisans will be on hand discussing some of their wares\n\n20% discount on any 1 (one) item in The Museum Store\, including Ken Burns' documentary Country Music. (discount is in-store only)
X-ALT-DESC;FMTTYPE=text/html:<p style="font-size: 14px\; margin-bottom: 21.5px\; font-family: &quot\;Helvetica Neue&quot\;\, Helvetica\, Arial\, sans-serif\;">FREE and open to the public</p>\n\n<p style="font-size: 14px\; margin-bottom: 21.5px\; font-family: &quot\;Helvetica Neue&quot\;\, Helvetica\, Arial\, sans-serif\;">Kick-off the season with a Holiday Open House event at The Museum Store in The Birthplace of Country Music Museum!</p>\n\n<div class="callout-inset" style="border-left: 1px solid rgb(182\, 180\, 184)\; margin-top: 2em\; padding-left: 2em\; font-family: &quot\;Helvetica Neue&quot\;\, Helvetica\, Arial\, sans-serif\; font-size: 16px\;">\n<p style="font-size: 14px\; margin-bottom: 20.5px\;">Live music 2:00 p.m. &ndash\; 4:30 p.m.</p>\n\n<p style="font-size: 14px\; margin-bottom: 20.5px\;">Tastings from recipes featured in cookbooks we carry in The Museum Store</p>\n\n<p style="font-size: 14px\; margin-bottom: 20.5px\;">Giveaways featuring artisan items and exclusive BCM merchandise</p>\n\n<p style="font-size: 14px\; margin-bottom: 20.5px\;">Local artisans will be on hand discussing some of their wares</p>\n\n<p style="font-size: 14px\; margin-bottom: 20.5px\;">20% discount on any 1 (one) item in The Museum Store\, including&nbsp\;<a href="https://musicbristol.com/" style="color: rgb(193\, 42\, 31)\; text-decoration-line: none\;">Ken Burns&rsquo\; documentary<em>&nbsp\;Country Music</em></a>. (discount is in-store only)</p>\n</div>\n
LOCATION:Birthplace of Country Music Musuem
UID:e.2564.794189
SEQUENCE:3
DTSTAMP:20260424T055922Z
URL:https://business.bristolchamber.com/events/details/holiday-open-house-at-the-museum-store-794189
END:VEVENT

END:VCALENDAR
