BEGIN:VCALENDAR
VERSION:2.0
PRODID:-//ChamberMaster//Event Calendar 2.0//EN
METHOD:PUBLISH
X-PUBLISHED-TTL:P3D
REFRESH-INTERVAL:P3D
CALSCALE:GREGORIAN
BEGIN:VEVENT
DTSTART;VALUE=DATE:20230214
DTEND;VALUE=DATE:20230215
TRANSP:TRANSPARENT
X-MICROSOFT-CDO-ALLDAYEVENT:TRUE
SUMMARY:Healing Hands Health Center's 13th Annual Valentine's Day Fundraiser - Sweets for the Sweet!
DESCRIPTION:Healing Hands Health Center is excited to announce our 13th Annual Sweets for the Sweet Valentine's Day fundraiser. Help us surprise Healthcare Heroes and Seniors or self-deliver a cupcake surprise to individuals who are special to you! A donation of $50 per cupcake will provide quality healthcare for low-income\, uninsured and underinsured in our region.\n\n \n\nA beautifully packaged cupcake is a wonderful way to say THANK YOU to hardworking dedicated Healthcare Heroes at Bristol Regional Medical Center and Johnston Memorial Hospital. \n\n \n\nOur "Surprise a Senior" option is a perfect way to brighten the day for shut-ins and seniors who may be feeling isolated and lonely! Healing Hands' volunteers will deliver beautifully packaged cupcakes to senior living communities in our area!\n\n \n\nYou can still order individual cupcakes! Just pick them up at the J.D. and Lorraine Nicewonder Education Center\, across the street from our clinic\, at 234 Midway Medical Park\, Bristol\, TN between 9:00a.m. and 3:00p.m. on Tuesday\, February 14th and make your own special delivery! We are no longer able to offer delivery service.\n\n \n\nPlace your order today by visiting our website www.HealingHandsHealthCenter.org! We kindly ask that all orders be placed by Thursday\, February 9th.\n\n \n\nHealing Hands Health Center is a charitable health clinic providing medical\, dental\, eye care\, eyeglasses and medications to low-income\, uninsured and underinsured residents of Northeast Tennessee and Southwest Virginia.
X-ALT-DESC;FMTTYPE=text/html:<span style="font-family:cambria\,serif"><span style="font-size:12.0pt">Healing Hands Health Center is excited to announce our <strong>13<sup>th</sup> Annual Sweets for the Sweet Valentine&rsquo\;s Day </strong>fundraiser. Help us surprise Healthcare Heroes and Seniors or self-deliver a cupcake surprise to individuals who are special to you! A donation of $50 per cupcake will provide quality healthcare for low-income\, uninsured and underinsured in our region.</span></span><br />\n&nbsp\;<br />\n<span style="font-family:cambria\,serif"><span style="font-size:12.0pt">A beautifully packaged cupcake is a wonderful way to say THANK YOU to hardworking dedicated Healthcare Heroes at <strong>Bristol Regional Medical Center</strong> and <strong>Johnston Memorial Hospital. </strong></span></span><br />\n&nbsp\;<br />\n<span style="font-family:cambria\,serif"><span style="font-size:12.0pt">Our &ldquo\;Surprise a Senior&rdquo\; option is a perfect way to brighten the day for shut-ins and seniors who may be feeling isolated and lonely! Healing Hands&rsquo\; volunteers will deliver beautifully packaged cupcakes to <strong>senior living communities</strong> in our area!</span></span><br />\n&nbsp\;<br />\n<span style="font-family:cambria\,serif"><span style="font-size:12.0pt">You can still order individual cupcakes! Just pick them up at the J.D. and Lorraine Nicewonder Education Center\, across the street from our clinic\, at 234 Midway Medical Park\, Bristol\, TN between 9:00a.m. and 3:00p.m. on Tuesday\, February 14<sup>th</sup> and make your own special delivery! <em>We are no longer able to offer delivery service.</em></span></span><br />\n&nbsp\;<br />\n<span style="font-family:cambria\,serif"><span style="font-size:12.0pt">Place your order today by visiting our website </span></span><a href="http://www.healinghandshealthcenter.org/"><span style="font-family:cambria\,serif"><span style="font-size:12.0pt">www.HealingHandsHealthCenter.org</span></span></a><span style="font-family:cambria\,serif"><span style="font-size:12.0pt">! <strong>We kindly ask that all orders be placed by Thursday\, February 9<sup>th</sup>.</strong></span></span><br />\n&nbsp\;<br />\n<span style="font-family:cambria\,serif"><span style="font-size:12.0pt">Healing Hands Health Center is a charitable health clinic providing medical\, dental\, eye care\, eyeglasses and medications to low-income\, uninsured and underinsured residents of Northeast Tennessee and Southwest Virginia.</span></span><br />\n&nbsp\;<br />\n&nbsp\;
LOCATION:The JD and Lorraine Nicewonder Education Center 234 Midway Medical Park Bristol\, TN 37620
UID:e.2564.795688
SEQUENCE:3
DTSTAMP:20260420T014433Z
URL:https://business.bristolchamber.com/events/details/healing-hands-health-center-s-13th-annual-valentine-s-day-fundraiser-sweets-for-the-sweet-795688
END:VEVENT

END:VCALENDAR
