BEGIN:VCALENDAR
VERSION:2.0
PRODID:-//ChamberMaster//Event Calendar 2.0//EN
METHOD:PUBLISH
X-PUBLISHED-TTL:P3D
REFRESH-INTERVAL:P3D
CALSCALE:GREGORIAN
BEGIN:VEVENT
DTSTART:20200502T130000Z
DTEND:20200502T160000Z
X-MICROSOFT-CDO-ALLDAYEVENT:FALSE
SUMMARY:Haven of Rest Restore Your Sole 5k Run/Walk
DESCRIPTION:Come out and run for a cause for our Restore Your Sole 5K. There will be awards for top finishers and also DOOR PRIZES! Also\, t-shirts will be available to everyone who registers before Apr 3. All benefits serve the Haven of Rest Rescue Mission to serve the homeless and hungry of the mountain empire. Registration and further event information can be found on our website at: https://www.havenofrestbristol.org/restore-your-sole-5k.html
X-ALT-DESC;FMTTYPE=text/html:Come out and run for a cause for our Restore Your Sole 5K. There will be awards for top finishers and also DOOR PRIZES! Also\, t-shirts will be available to everyone who registers before Apr 3. All benefits serve the Haven of Rest Rescue Mission to serve the homeless and hungry of the mountain empire. Registration and further event information can be found on our website at: https://www.havenofrestbristol.org/restore-your-sole-5k.html
LOCATION:Virginia Creeper Trail
UID:e.2564.794334
SEQUENCE:3
DTSTAMP:20260423T230507Z
URL:https://business.bristolchamber.com/events/details/haven-of-rest-restore-your-sole-5k-run-walk-794334
END:VEVENT

END:VCALENDAR
