BEGIN:VCALENDAR
VERSION:2.0
PRODID:-//ChamberMaster//Event Calendar 2.0//EN
METHOD:PUBLISH
X-PUBLISHED-TTL:P3D
REFRESH-INTERVAL:P3D
CALSCALE:GREGORIAN
BEGIN:VEVENT
DTSTART;VALUE=DATE:20220405
DTEND;VALUE=DATE:20220407
TRANSP:TRANSPARENT
X-MICROSOFT-CDO-ALLDAYEVENT:TRUE
SUMMARY:Hard Rock Dealer Hiring Events for Temporary Casino in Bristol\, Virginia
DESCRIPTION:FOR IMMEDIATE RELEASE\n\n \n\nContact: \n\nAndy Poarch\n\nEmail: andy@alliancegroupltd.com\n\nPhone: 804-564-2566\n\n \nHard Rock Hosts Dealer Hiring Events for Temporary Casino in Bristol\, Virginia \n\n'Last Call for Dealers' Events on April 5-6 \n\n\nBRISTOL\, VA (April 1\, 2022)   Hard Rock International today announced plans to host hiring events for its temporary casino in Bristol\, Virginia.  Additional information on the events is included below: \n\n\n\nWHAT:                 Last Call for Dealers   Audition to Become a Dealer\n\nNote: this hiring event is open to both 1) experienced table game dealers and 2) anyone without experience who would like to audition to be selected\, to attend the Hard Rock dealer training school.\n\n \n\nWHEN:                 Tuesday\, April 5: 10am-3pm\n\n                              Wednesday\, April 6: 4pm-8pm\n\n \n\nWHERE:               Bristol Mall   Site of the Casino\n\n500 Gate City Highway\n\nBristol\, VA 24201\n\nFollow the signage around to the entry to the dealer hiring event. \n\n\n\nFor more information around Hard Rock's temporary casino in Bristol\, Virginia\, visit https://www.hardrockhotelcasinobristol.com/.\n\n\n\nAbout Hard Rock :\n\nHard Rock International (HRI) is one of the most globally recognized companies with venues in 67 countries spanning 249 locations that include owned/licensed or managed Hotels\, Casinos\, Rock Shops \, Live Performance Venues and Cafes. HRI also launched a joint venture named Hard Rock Digital in 2020\, an online sportsbook\, retail sportsbook and internet gaming platform. Beginning with an Eric Clapton guitar\, Hard Rock owns the world's largest and most valuable collection of authentic music memorabilia at more than 86\,000 pieces\, which are displayed at its locations around the globe. In 2021\, Hard Rock was awarded the Top Employer in the Travel & Leisure\, Gaming\, and Entertainment Industry by Forbes\, designated as a U.S. Best Managed Company by Deloitte Private and The Wall Street Journal and named the top performing hotel brand in J.D. Power's North America Hotel Guest Satisfaction Study for the third consecutive year. In 2020\, Hard Rock was honored as one of Forbes Magazine's Best Employers for Diversity and a Top Employer for Women. Hard Rock Hotels & Casinos also received first place ranking in the 2020 Casino Gaming Executive Satisfaction Survey conducted by Bristol Associates Inc. and Spectrum Gaming Group. Hard Rock destinations are located in international gateway cities\, including its two most successful flagship properties in Florida and home to the world's first Guitar Hotel  in South Florida\, Global Gaming's 2020 Property of the Year. The brand is owned by HRI parent entity The Seminole Tribe of Florida. For more information on Hard Rock International\, visit www.hardrock.com or shop.hardrock.com.
X-ALT-DESC;FMTTYPE=text/html:<strong><span style="color:red\;"><span style="font-family:calibri\,sans-serif\;">FOR IMMEDIATE RELEASE</span></span></strong><br />\n&nbsp\;<br />\n<strong><span style="font-family:calibri\,sans-serif\;">Contact: </span></strong><br />\n<span style="font-family:calibri\,sans-serif\;">Andy Poarch</span><br />\n<span style="font-family:calibri\,sans-serif\;">Email: </span><span style="font-family:calibri\,sans-serif\;">andy@alliancegroupltd.com</span><br />\n<span style="font-family:calibri\,sans-serif\;">Phone: 804-564-2566</span><br />\n&nbsp\;\n<div style="text-align: center\;"><span style="font-size:18px\;"><strong><span style="font-family:calibri\,sans-serif\;">Hard Rock Hosts Dealer Hiring Events for Temporary Casino in Bristol\, Virginia </span></strong></span><br />\n<em><span style="font-family:calibri\,sans-serif\;"><span style="font-size:18px\;">&lsquo\;Last Call for Dealers&rsquo\; Events on April 5-6</span> </span></em></div>\n<br />\n<strong><span style="color:black\;"><span style="font-family:calibri\,sans-serif\;">BRISTOL\, VA (April 1\, 2022)</span></span></strong><span style="color:black\;"><span style="font-family:calibri\,sans-serif\;">&nbsp\;&ndash\; </span></span><span style="font-family:calibri\,sans-serif\;">Hard Rock International today announced plans to host hiring events for its temporary casino in Bristol\, Virginia.&nbsp\; Additional information on the events is included below: </span><br />\n<br />\n<strong><span style="font-family:calibri\,sans-serif\;"><span style="font-size:11.0pt\;">WHAT:&nbsp\;&nbsp\;&nbsp\;&nbsp\;&nbsp\;&nbsp\;&nbsp\;&nbsp\;&nbsp\;&nbsp\;&nbsp\;&nbsp\;&nbsp\;&nbsp\;&nbsp\;&nbsp\; </span></span></strong><span style="font-family:calibri\,sans-serif\;"><span style="font-size:11.0pt\;">Last Call for Dealers &ndash\; Audition to Become a Dealer</span></span><br />\n<u><span style="font-family:calibri\,sans-serif\;">Note</span></u><span style="font-family:calibri\,sans-serif\;">: this hiring event is open to both 1) experienced table game dealers and 2) anyone without experience who would like to audition to be selected\, to attend the Hard Rock dealer training school.</span><br />\n&nbsp\;<br />\n<strong><span style="font-family:calibri\,sans-serif\;"><span style="font-size:11.0pt\;">WHEN:&nbsp\;&nbsp\;&nbsp\;&nbsp\;&nbsp\;&nbsp\;&nbsp\;&nbsp\;&nbsp\;&nbsp\;&nbsp\;&nbsp\;&nbsp\;&nbsp\;&nbsp\;&nbsp\; </span></span></strong><span style="font-family:calibri\,sans-serif\;"><span style="font-size:11.0pt\;">Tuesday\, April 5: 10am-3pm</span></span><br />\n<span style="font-family:calibri\,sans-serif\;"><span style="font-size:11.0pt\;">&nbsp\;&nbsp\;&nbsp\;&nbsp\;&nbsp\;&nbsp\;&nbsp\;&nbsp\;&nbsp\;&nbsp\;&nbsp\;&nbsp\;&nbsp\;&nbsp\;&nbsp\;&nbsp\;&nbsp\;&nbsp\;&nbsp\;&nbsp\;&nbsp\;&nbsp\;&nbsp\;&nbsp\;&nbsp\;&nbsp\;&nbsp\;&nbsp\;&nbsp\; Wednesday\, April 6: 4pm-8pm</span></span><br />\n&nbsp\;<br />\n<strong><span style="font-family:calibri\,sans-serif\;">WHERE:&nbsp\;&nbsp\;&nbsp\;&nbsp\;&nbsp\;&nbsp\;&nbsp\;&nbsp\;&nbsp\;&nbsp\;&nbsp\;&nbsp\;&nbsp\;&nbsp\; </span></strong><span style="font-family:calibri\,sans-serif\;">Bristol Mall &ndash\; Site of the Casino</span><br />\n<span style="font-family:calibri\,sans-serif\;">500 Gate City Highway</span><br />\n<span style="font-family:calibri\,sans-serif\;">Bristol\, VA 24201</span><br />\n<span style="font-family:calibri\,sans-serif\;">Follow the signage around to the entry to the dealer hiring event. </span><br />\n<br />\n<span style="font-family:calibri\,sans-serif\;">For more information around Hard Rock&rsquo\;s temporary casino in Bristol\, Virginia\, visit </span><a href="https://www.hardrockhotelcasinobristol.com/"><span style="color:#1155CC\;"><span style="font-family:calibri\,sans-serif\;">https://www.hardrockhotelcasinobristol.com/</span></span></a><span style="font-family:calibri\,sans-serif\;">.</span><br />\n<br />\n<strong><u><span style="font-family:calibri\,sans-serif\;">About Hard Rock&reg\;:</span></u></strong><br />\n<a href="https://c212.net/c/link/?t=0&amp\;l=en&amp\;o=3373280-1&amp\;h=2461234106&amp\;u=http%3A%2F%2Fwww.hardrock.com%2F&amp\;a=Hard+Rock+International+(HRI)+"><span style="background:white\;"><span style="color:#1155CC\;"><span style="font-family:calibri\,sans-serif\;">Hard Rock International (HRI)</span></span></span></a> <span style="background:white\;"><span style="font-family:calibri\,sans-serif\;">is one of the most globally recognized companies with venues in 67 countries spanning 249 locations that include owned/licensed or managed Hotels\, Casinos\, Rock Shops&reg\;\, Live Performance Venues and Cafes. HRI also launched a joint venture named Hard Rock Digital in 2020\, an online sportsbook\, retail sportsbook and internet gaming platform. Beginning with an Eric Clapton guitar\, Hard Rock owns the world&#39\;s largest and most valuable collection of authentic music memorabilia at more than 86\,000 pieces\, which are displayed at its locations around the globe. In 2021\, Hard Rock was awarded the Top Employer in the Travel &amp\; Leisure\, Gaming\, and Entertainment Industry by Forbes\, designated as a U.S. Best Managed Company by Deloitte Private and The Wall Street Journal and named the top performing hotel brand in J.D. Power&#39\;s North America Hotel Guest Satisfaction Study for the third consecutive year. In 2020\, Hard Rock was honored as one of Forbes Magazine&#39\;s Best Employers for Diversity and a Top Employer for Women. Hard Rock Hotels &amp\; Casinos also received first place ranking in the 2020 Casino Gaming Executive Satisfaction Survey conducted by Bristol Associates Inc. and Spectrum Gaming Group. Hard Rock destinations are located in international gateway cities\, including its two most successful flagship properties in Florida and home to the world&#39\;s first Guitar Hotel&reg\; in South Florida\, Global Gaming&#39\;s 2020 Property of the Year. The brand is owned by HRI parent entity The Seminole Tribe of Florida. For more information on Hard Rock International\, visit </span></span><a href="https://c212.net/c/link/?t=0&amp\;l=en&amp\;o=3373280-1&amp\;h=3689975261&amp\;u=http%3A%2F%2Fwww.hardrock.com%2F&amp\;a=www.hardrock.com"><span style="background:white\;"><span style="color:#1155CC\;"><span style="font-family:calibri\,sans-serif\;">www.hardrock.com</span></span></span></a> <span style="background:white\;"><span style="font-family:calibri\,sans-serif\;">or </span></span><a href="http://shop.hardrock.com/"><span style="background:white\;"><span style="color:#1155CC\;"><span style="font-family:calibri\,sans-serif\;">shop.hardrock.com</span></span></span></a><span style="background:white\;"><span style="color:#373737\;"><span style="font-family:calibri\,sans-serif\;">.</span></span></span>
LOCATION:Bristol Mall Site of the Casino 500 Gate City Highway Bristol\, VA 24201 Follow the signage around to the entry to the dealer hiring event.
UID:e.2564.795137
SEQUENCE:3
DTSTAMP:20260422T121745Z
URL:https://business.bristolchamber.com/events/details/hard-rock-dealer-hiring-events-for-temporary-casino-in-bristol-virginia-795137
END:VEVENT

END:VCALENDAR
