BEGIN:VCALENDAR
VERSION:2.0
PRODID:-//ChamberMaster//Event Calendar 2.0//EN
METHOD:PUBLISH
X-PUBLISHED-TTL:P3D
REFRESH-INTERVAL:P3D
CALSCALE:GREGORIAN
BEGIN:VEVENT
DTSTART:20220604T130000Z
DTEND:20220604T160000Z
X-MICROSOFT-CDO-ALLDAYEVENT:FALSE
SUMMARY:Great American Cleanup
DESCRIPTION:The Great American Cleanup is a national event held annually to promote recycling and responsibly clean up our communities. This drive-thru style event will offer\, secure on-site paper shredding/recycling and electronic waste recycling (no TVs or computer monitors).\n\nSo load up your car/truck and come see us on June 4 for this free event!\n\n\n\nSpecial thanks to Blue Ridge Environmental Services\, OmniSource and the City of Bristol\, VA!
X-ALT-DESC;FMTTYPE=text/html:<p class="Default"><span background-color:="" color:="" font-size:="" style="font-family: sans-serif\, Arial\, Verdana\, " trebuchet=""><span style="font-family: arial\;"><span style="font-size: 14px\;">The Great American Cleanup is a national event held annually to promote recycling and responsibly clean up our communities. This drive-thru style&nbsp\;event will offer\, secure on-site paper shredding/recycling and electronic waste recycling (<b>no TVs or computer monitors</b>).<br />\nSo load up your car/truck and come see us&nbsp\;on June 4&nbsp\;for this&nbsp\;free event!</span></span></span><br background-color:="" font-size:="" style="color: rgb(51\, 51\, 51)\; font-family: sans-serif\, Arial\, Verdana\, " trebuchet="" />\n<br />\nSpecial thanks to Blue Ridge Environmental Services\, OmniSource and the City of Bristol\, VA!<br />\n&nbsp\;</p>\n
LOCATION:Gene Malcolm Stadium Parking Lot 1501 Euclid Ave Bristol\, VA
UID:e.2564.795214
SEQUENCE:3
DTSTAMP:20260422T085926Z
URL:https://business.bristolchamber.com/events/details/great-american-cleanup-795214
END:VEVENT

END:VCALENDAR
