BEGIN:VCALENDAR
VERSION:2.0
PRODID:-//ChamberMaster//Event Calendar 2.0//EN
METHOD:PUBLISH
X-PUBLISHED-TTL:P3D
REFRESH-INTERVAL:P3D
CALSCALE:GREGORIAN
BEGIN:VEVENT
DTSTART:20190511T130000Z
DTEND:20190511T160000Z
X-MICROSOFT-CDO-ALLDAYEVENT:FALSE
SUMMARY:Great American Cleanup
DESCRIPTION:Great American Cleanup
X-ALT-DESC;FMTTYPE=text/html:Great American Cleanup
LOCATION:Devault Field 1501 Euclid Ave Bristol\, VA
UID:e.2564.791793
SEQUENCE:3
DTSTAMP:20260419T211401Z
URL:https://business.bristolchamber.com/events/details/great-american-cleanup-791793
END:VEVENT

END:VCALENDAR
